BEGIN:VCALENDAR
VERSION:2.0
PRODID:-//Graduate School - ECPv6.15.18//NONSGML v1.0//EN
CALSCALE:GREGORIAN
METHOD:PUBLISH
X-ORIGINAL-URL:https://gradschool.cornell.edu
X-WR-CALDESC:Events for Graduate School
REFRESH-INTERVAL;VALUE=DURATION:PT1H
X-Robots-Tag:noindex
X-PUBLISHED-TTL:PT1H
BEGIN:VTIMEZONE
TZID:America/New_York
BEGIN:DAYLIGHT
TZOFFSETFROM:-0500
TZOFFSETTO:-0400
TZNAME:EDT
DTSTART:20210314T070000
END:DAYLIGHT
BEGIN:STANDARD
TZOFFSETFROM:-0400
TZOFFSETTO:-0500
TZNAME:EST
DTSTART:20211107T060000
END:STANDARD
BEGIN:DAYLIGHT
TZOFFSETFROM:-0500
TZOFFSETTO:-0400
TZNAME:EDT
DTSTART:20220313T070000
END:DAYLIGHT
BEGIN:STANDARD
TZOFFSETFROM:-0400
TZOFFSETTO:-0500
TZNAME:EST
DTSTART:20221106T060000
END:STANDARD
BEGIN:DAYLIGHT
TZOFFSETFROM:-0500
TZOFFSETTO:-0400
TZNAME:EDT
DTSTART:20230312T070000
END:DAYLIGHT
BEGIN:STANDARD
TZOFFSETFROM:-0400
TZOFFSETTO:-0500
TZNAME:EST
DTSTART:20231105T060000
END:STANDARD
END:VTIMEZONE
BEGIN:VEVENT
DTSTART;TZID=America/New_York:20220908T153000
DTEND;TZID=America/New_York:20220908T170000
DTSTAMP:20260423T070733
CREATED:20220822T194523Z
LAST-MODIFIED:20241125T230302Z
UID:10004617-1662651000-1662656400@gradschool.cornell.edu
SUMMARY:Fellowships 101: Finding\, Writing\, Winning an External Fellowship
DESCRIPTION:Thursday\, September 8\, 3:30 – 5:30 pm \nWorkshop hosted by Jan Allen\, Associate Dean for Academic and Student Affairs \nRegister online to receive the meeting link and handouts.
URL:https://gradschool.cornell.edu/event/fellowships-101-finding-writing-winning-an-external-fellowship/
LOCATION:Zoom
GEO:40.7127753;-74.0059728
END:VEVENT
END:VCALENDAR