BEGIN:VCALENDAR
VERSION:2.0
PRODID:-//Graduate School - ECPv6.15.18//NONSGML v1.0//EN
CALSCALE:GREGORIAN
METHOD:PUBLISH
X-ORIGINAL-URL:https://gradschool.cornell.edu
X-WR-CALDESC:Events for Graduate School
REFRESH-INTERVAL;VALUE=DURATION:PT1H
X-Robots-Tag:noindex
X-PUBLISHED-TTL:PT1H
BEGIN:VTIMEZONE
TZID:America/New_York
BEGIN:DAYLIGHT
TZOFFSETFROM:-0500
TZOFFSETTO:-0400
TZNAME:EDT
DTSTART:20210314T070000
END:DAYLIGHT
BEGIN:STANDARD
TZOFFSETFROM:-0400
TZOFFSETTO:-0500
TZNAME:EST
DTSTART:20211107T060000
END:STANDARD
BEGIN:DAYLIGHT
TZOFFSETFROM:-0500
TZOFFSETTO:-0400
TZNAME:EDT
DTSTART:20220313T070000
END:DAYLIGHT
BEGIN:STANDARD
TZOFFSETFROM:-0400
TZOFFSETTO:-0500
TZNAME:EST
DTSTART:20221106T060000
END:STANDARD
BEGIN:DAYLIGHT
TZOFFSETFROM:-0500
TZOFFSETTO:-0400
TZNAME:EDT
DTSTART:20230312T070000
END:DAYLIGHT
BEGIN:STANDARD
TZOFFSETFROM:-0400
TZOFFSETTO:-0500
TZNAME:EST
DTSTART:20231105T060000
END:STANDARD
END:VTIMEZONE
BEGIN:VEVENT
DTSTART;TZID=America/New_York:20221210T190000
DTEND;TZID=America/New_York:20221210T230000
DTSTAMP:20260424T001146
CREATED:20221114T182849Z
LAST-MODIFIED:20241125T225746Z
UID:10004683-1670698800-1670713200@gradschool.cornell.edu
SUMMARY:Renaissance Ball
DESCRIPTION:The Annual Graduate Diversity and Inclusion Renaissance Ball is an effort of the graduate student organizations represented on the Graduate and Professional Student Diversity Council. This event brings together graduate and professional students for a night of live music\, great food\, dancing\, and community. Founded by the Black Graduate and Professional Student Association (BGPSA) in 2011\, the Renaissance Ball\, which is named in honor of the Harlem Renaissance\, celebrates the diversity of the Cornell graduate community and promotes the inclusion of all of its members.
URL:https://gradschool.cornell.edu/event/renaissance-ball/
LOCATION:G10 Biotechnology Building\, 526 Campus Road\, Ithaca\, NY\, 14853\, United States
GEO:42.4465542;-76.4783618
X-APPLE-STRUCTURED-LOCATION;VALUE=URI;X-ADDRESS=G10 Biotechnology Building 526 Campus Road Ithaca NY 14853 United States;X-APPLE-RADIUS=500;X-TITLE=526 Campus Road:geo:-76.4783618,42.4465542
END:VEVENT
END:VCALENDAR