BEGIN:VCALENDAR
VERSION:2.0
PRODID:-//Graduate School - ECPv6.15.18//NONSGML v1.0//EN
CALSCALE:GREGORIAN
METHOD:PUBLISH
X-WR-CALNAME:Graduate School
X-ORIGINAL-URL:https://gradschool.cornell.edu
X-WR-CALDESC:Events for Graduate School
REFRESH-INTERVAL;VALUE=DURATION:PT1H
X-Robots-Tag:noindex
X-PUBLISHED-TTL:PT1H
BEGIN:VTIMEZONE
TZID:America/New_York
BEGIN:DAYLIGHT
TZOFFSETFROM:-0500
TZOFFSETTO:-0400
TZNAME:EDT
DTSTART:20220313T070000
END:DAYLIGHT
BEGIN:STANDARD
TZOFFSETFROM:-0400
TZOFFSETTO:-0500
TZNAME:EST
DTSTART:20221106T060000
END:STANDARD
BEGIN:DAYLIGHT
TZOFFSETFROM:-0500
TZOFFSETTO:-0400
TZNAME:EDT
DTSTART:20230312T070000
END:DAYLIGHT
BEGIN:STANDARD
TZOFFSETFROM:-0400
TZOFFSETTO:-0500
TZNAME:EST
DTSTART:20231105T060000
END:STANDARD
BEGIN:DAYLIGHT
TZOFFSETFROM:-0500
TZOFFSETTO:-0400
TZNAME:EDT
DTSTART:20240310T070000
END:DAYLIGHT
BEGIN:STANDARD
TZOFFSETFROM:-0400
TZOFFSETTO:-0500
TZNAME:EST
DTSTART:20241103T060000
END:STANDARD
END:VTIMEZONE
BEGIN:VEVENT
DTSTART;TZID=America/New_York:20230120T163000
DTEND;TZID=America/New_York:20230225T190000
DTSTAMP:20260424T092520
CREATED:20230123T203101Z
LAST-MODIFIED:20241125T230317Z
UID:10003968-1674232200-1677351600@gradschool.cornell.edu
SUMMARY:TGIF (Tell Grads It’s Friday)
DESCRIPTION:Looking to kick back and make some friends? Come celebrate with us as we welcome old and new graduate & professional students back to Cornell for the Big Red Barn’s signature event. Snacks\, music\, and drink specials!\nNo registration required; just attend.
URL:https://gradschool.cornell.edu/event/tgif-tell-grads-its-friday-2/2023-01-20/
LOCATION:Big Red Barn\, 135 Presidents Way\, Ithaca\, NY\, 14853\, United States
GEO:42.449516;-76.4806268
X-APPLE-STRUCTURED-LOCATION;VALUE=URI;X-ADDRESS=Big Red Barn 135 Presidents Way Ithaca NY 14853 United States;X-APPLE-RADIUS=500;X-TITLE=135 Presidents Way:geo:-76.4806268,42.449516
END:VEVENT
BEGIN:VEVENT
DTSTART;TZID=America/New_York:20230127T163000
DTEND;TZID=America/New_York:20230304T190000
DTSTAMP:20260424T092520
CREATED:20230123T203101Z
LAST-MODIFIED:20241125T230317Z
UID:10003969-1674837000-1677956400@gradschool.cornell.edu
SUMMARY:TGIF (Tell Grads It’s Friday)
DESCRIPTION:Looking to kick back and make some friends? Come celebrate with us as we welcome old and new graduate & professional students back to Cornell for the Big Red Barn’s signature event. Snacks\, music\, and drink specials!\nNo registration required; just attend.
URL:https://gradschool.cornell.edu/event/tgif-tell-grads-its-friday-2/2023-01-27/
LOCATION:Big Red Barn\, 135 Presidents Way\, Ithaca\, NY\, 14853\, United States
GEO:42.449516;-76.4806268
X-APPLE-STRUCTURED-LOCATION;VALUE=URI;X-ADDRESS=Big Red Barn 135 Presidents Way Ithaca NY 14853 United States;X-APPLE-RADIUS=500;X-TITLE=135 Presidents Way:geo:-76.4806268,42.449516
END:VEVENT
BEGIN:VEVENT
DTSTART;TZID=America/New_York:20230203T163000
DTEND;TZID=America/New_York:20230311T190000
DTSTAMP:20260424T092520
CREATED:20230123T203101Z
LAST-MODIFIED:20241125T230317Z
UID:10003970-1675441800-1678561200@gradschool.cornell.edu
SUMMARY:TGIF (Tell Grads It’s Friday)
DESCRIPTION:Looking to kick back and make some friends? Come celebrate with us as we welcome old and new graduate & professional students back to Cornell for the Big Red Barn’s signature event. Snacks\, music\, and drink specials!\nNo registration required; just attend.
URL:https://gradschool.cornell.edu/event/tgif-tell-grads-its-friday-2/2023-02-03/
LOCATION:Big Red Barn\, 135 Presidents Way\, Ithaca\, NY\, 14853\, United States
GEO:42.449516;-76.4806268
X-APPLE-STRUCTURED-LOCATION;VALUE=URI;X-ADDRESS=Big Red Barn 135 Presidents Way Ithaca NY 14853 United States;X-APPLE-RADIUS=500;X-TITLE=135 Presidents Way:geo:-76.4806268,42.449516
END:VEVENT
BEGIN:VEVENT
DTSTART;TZID=America/New_York:20230210T163000
DTEND;TZID=America/New_York:20230318T200000
DTSTAMP:20260424T092520
CREATED:20230123T203101Z
LAST-MODIFIED:20241125T230317Z
UID:10003971-1676046600-1679169600@gradschool.cornell.edu
SUMMARY:TGIF (Tell Grads It’s Friday)
DESCRIPTION:Looking to kick back and make some friends? Come celebrate with us as we welcome old and new graduate & professional students back to Cornell for the Big Red Barn’s signature event. Snacks\, music\, and drink specials!\nNo registration required; just attend.
URL:https://gradschool.cornell.edu/event/tgif-tell-grads-its-friday-2/2023-02-10/
LOCATION:Big Red Barn\, 135 Presidents Way\, Ithaca\, NY\, 14853\, United States
GEO:42.449516;-76.4806268
X-APPLE-STRUCTURED-LOCATION;VALUE=URI;X-ADDRESS=Big Red Barn 135 Presidents Way Ithaca NY 14853 United States;X-APPLE-RADIUS=500;X-TITLE=135 Presidents Way:geo:-76.4806268,42.449516
END:VEVENT
BEGIN:VEVENT
DTSTART;TZID=America/New_York:20230217T163000
DTEND;TZID=America/New_York:20230325T200000
DTSTAMP:20260424T092520
CREATED:20230123T203101Z
LAST-MODIFIED:20241125T230317Z
UID:10003972-1676651400-1679774400@gradschool.cornell.edu
SUMMARY:TGIF (Tell Grads It’s Friday)
DESCRIPTION:Looking to kick back and make some friends? Come celebrate with us as we welcome old and new graduate & professional students back to Cornell for the Big Red Barn’s signature event. Snacks\, music\, and drink specials!\nNo registration required; just attend.
URL:https://gradschool.cornell.edu/event/tgif-tell-grads-its-friday-2/2023-02-17/
LOCATION:Big Red Barn\, 135 Presidents Way\, Ithaca\, NY\, 14853\, United States
GEO:42.449516;-76.4806268
X-APPLE-STRUCTURED-LOCATION;VALUE=URI;X-ADDRESS=Big Red Barn 135 Presidents Way Ithaca NY 14853 United States;X-APPLE-RADIUS=500;X-TITLE=135 Presidents Way:geo:-76.4806268,42.449516
END:VEVENT
BEGIN:VEVENT
DTSTART;TZID=America/New_York:20230222T160000
DTEND;TZID=America/New_York:20230222T173000
DTSTAMP:20260424T092520
CREATED:20230223T194849Z
LAST-MODIFIED:20241125T225748Z
UID:10004716-1677081600-1677087000@gradschool.cornell.edu
SUMMARY:Sloan Inclusive Leadership Workshop: Inclusion and Belonging - Theoria Cason
DESCRIPTION:Facilitator: Theoria Cason   \nIdentity is inextricably linked to power and privilege. Being aware of the power and privilege (or lack thereof) that comes with multiple identities is an important foundation for cultivating self-awareness as a leader. In this session you will learn about: the characteristics of oppression that are systemic within the academy and workplace culture\, ways to recognize and respond to imposter syndrome\, self-advocacy as a form of self-care\, and how to create an environment in which all individuals feel empowered to express their opinions in order to sustain a culture of belonging.
URL:https://gradschool.cornell.edu/event/sloan-inclusive-leadership-workshop-inclusion-and-belonging-theoria-cason/
LOCATION:Zoom
GEO:40.7127753;-74.0059728
END:VEVENT
BEGIN:VEVENT
DTSTART;TZID=America/New_York:20230222T170000
DTEND;TZID=America/New_York:20230222T200000
DTSTAMP:20260424T092520
CREATED:20230220T210632Z
LAST-MODIFIED:20241125T230321Z
UID:10004704-1677085200-1677096000@gradschool.cornell.edu
SUMMARY:Black History Month Celebration with BGPSA
DESCRIPTION:
URL:https://gradschool.cornell.edu/event/black-history-month-celebration-with-bgpsa/
LOCATION:Big Red Barn\, 135 Presidents Way\, Ithaca\, NY\, 14853\, United States
GEO:42.449516;-76.4806268
X-APPLE-STRUCTURED-LOCATION;VALUE=URI;X-ADDRESS=Big Red Barn 135 Presidents Way Ithaca NY 14853 United States;X-APPLE-RADIUS=500;X-TITLE=135 Presidents Way:geo:-76.4806268,42.449516
END:VEVENT
END:VCALENDAR