BEGIN:VCALENDAR
VERSION:2.0
PRODID:-//Graduate School - ECPv6.15.18//NONSGML v1.0//EN
CALSCALE:GREGORIAN
METHOD:PUBLISH
X-ORIGINAL-URL:https://gradschool.cornell.edu
X-WR-CALDESC:Events for Graduate School
REFRESH-INTERVAL;VALUE=DURATION:PT1H
X-Robots-Tag:noindex
X-PUBLISHED-TTL:PT1H
BEGIN:VTIMEZONE
TZID:America/New_York
BEGIN:DAYLIGHT
TZOFFSETFROM:-0500
TZOFFSETTO:-0400
TZNAME:EDT
DTSTART:20220313T070000
END:DAYLIGHT
BEGIN:STANDARD
TZOFFSETFROM:-0400
TZOFFSETTO:-0500
TZNAME:EST
DTSTART:20221106T060000
END:STANDARD
BEGIN:DAYLIGHT
TZOFFSETFROM:-0500
TZOFFSETTO:-0400
TZNAME:EDT
DTSTART:20230312T070000
END:DAYLIGHT
BEGIN:STANDARD
TZOFFSETFROM:-0400
TZOFFSETTO:-0500
TZNAME:EST
DTSTART:20231105T060000
END:STANDARD
BEGIN:DAYLIGHT
TZOFFSETFROM:-0500
TZOFFSETTO:-0400
TZNAME:EDT
DTSTART:20240310T070000
END:DAYLIGHT
BEGIN:STANDARD
TZOFFSETFROM:-0400
TZOFFSETTO:-0500
TZNAME:EST
DTSTART:20241103T060000
END:STANDARD
END:VTIMEZONE
BEGIN:VEVENT
DTSTART;TZID=America/New_York:20230217T163000
DTEND;TZID=America/New_York:20230325T200000
DTSTAMP:20260423T213731
CREATED:20230123T203101Z
LAST-MODIFIED:20241125T230317Z
UID:10003972-1676651400-1679774400@gradschool.cornell.edu
SUMMARY:TGIF (Tell Grads It’s Friday)
DESCRIPTION:Looking to kick back and make some friends? Come celebrate with us as we welcome old and new graduate & professional students back to Cornell for the Big Red Barn’s signature event. Snacks\, music\, and drink specials!\nNo registration required; just attend.
URL:https://gradschool.cornell.edu/event/tgif-tell-grads-its-friday-2/2023-02-17/
LOCATION:Big Red Barn\, 135 Presidents Way\, Ithaca\, NY\, 14853\, United States
GEO:42.449516;-76.4806268
X-APPLE-STRUCTURED-LOCATION;VALUE=URI;X-ADDRESS=Big Red Barn 135 Presidents Way Ithaca NY 14853 United States;X-APPLE-RADIUS=500;X-TITLE=135 Presidents Way:geo:-76.4806268,42.449516
END:VEVENT
BEGIN:VEVENT
DTSTART;TZID=America/New_York:20230323T103000
DTEND;TZID=America/New_York:20230323T113000
DTSTAMP:20260423T213731
CREATED:20230316T164232Z
LAST-MODIFIED:20241125T230322Z
UID:10004059-1679567400-1679571000@gradschool.cornell.edu
SUMMARY:Financial Planning 101: How to Grow the Strongest Foundation
DESCRIPTION:Are you interested in gaining exposure to the financial strategies and techniques that every person should be confident with in order to set themselves up for long-term success?  For example\, did you know you can grow your money tax-free? \nJoin our fun and informative sessions to learn more financial hacks that should be on your radar! \nAnticipated Material to be Covered \n\nBuilding a Budget || Fixed vs Variable\nSetting Financial Goals || Savings Plan\nWhy Invest? || Compounding vs Inflation\nHow to Invest? || Investment Types\nWhere to Invest? || Investment Vehicles\nLong-Term Protection || Insurances & Employee Benefits\n\nRegister now to attend this session. \nAbout the Speaker \nChase Wickenheiser\, A&S ’19 & Football Alum\,is a Financial Advisor with Magnus Financial Group. Chase partners with clients to help them organize their current Financial Picture\, advance their future Financial Goals\, and motivate them to continually achieve those goals.
URL:https://gradschool.cornell.edu/event/financial-planning-101-how-to-grow-the-strongest-foundation/
LOCATION:G01 Biotechnology Building\, 215 Tower Rd\, Ithaca\, NY\, 14853\, United States
CATEGORIES:Careers Beyond Academia
GEO:42.4472782;-76.4789508
X-APPLE-STRUCTURED-LOCATION;VALUE=URI;X-ADDRESS=G01 Biotechnology Building 215 Tower Rd Ithaca NY 14853 United States;X-APPLE-RADIUS=500;X-TITLE=215 Tower Rd:geo:-76.4789508,42.4472782
END:VEVENT
BEGIN:VEVENT
DTSTART;TZID=America/New_York:20230323T150000
DTEND;TZID=America/New_York:20230323T163000
DTSTAMP:20260423T213731
CREATED:20230314T150445Z
LAST-MODIFIED:20241125T225956Z
UID:10004721-1679583600-1679589000@gradschool.cornell.edu
SUMMARY:Building Mentorship Skills for Academic Careers
DESCRIPTION:In this series of remotely delivered workshops designed for current graduate students and postdocs and open to those in all fields\, you will develop essential research mentoring skills\, particularly for disciplines where research is conducted collaboratively. Effective mentoring of student research is a key skill influencing everything from research productivity to personal satisfaction. Learn best practices for mentorship of summer undergraduate researchers\, rotation students\, or research technicians\, and develop planning and communication skills needed to lead a research project or group. \nAll sessions will be practical in nature and feature short pre-readings or videos\, case study discussions\, and self-assessments to help identify your strengths and desired areas for improvement.Receive a certificate for completing at least 4 of 5 sessions (dates: 3/23\, 4/13\, 4/20\, 4/25 (in person/hybrid event)\, and 5/11). Interested participants should apply prior to the start of the series with the expectation of attending all workshops and actively participating in small and large group discussions.  \nMost sessions are on Thursdays from 3:00-4:30 pm ET. Registered participants will receive Zoom connection details for each session. See full schedule and topics \nRegister for Spring 2023 Series \nQuestions?\n\nContact Dr. Colleen McLinn\, futurefaculty@cornell.edu or 607-255-2030
URL:https://gradschool.cornell.edu/event/building-mentorship-skills-for-academic-careers-2023-1/
LOCATION:Online
CATEGORIES:Future Faculty and Academic Careers
ORGANIZER;CN="Future Faculty and Academic Careers":MAILTO:futurefaculty@cornell.edu
END:VEVENT
END:VCALENDAR