BEGIN:VCALENDAR
VERSION:2.0
PRODID:-//Graduate School - ECPv6.15.18//NONSGML v1.0//EN
CALSCALE:GREGORIAN
METHOD:PUBLISH
X-WR-CALNAME:Graduate School
X-ORIGINAL-URL:https://gradschool.cornell.edu
X-WR-CALDESC:Events for Graduate School
REFRESH-INTERVAL;VALUE=DURATION:PT1H
X-Robots-Tag:noindex
X-PUBLISHED-TTL:PT1H
BEGIN:VTIMEZONE
TZID:America/New_York
BEGIN:DAYLIGHT
TZOFFSETFROM:-0500
TZOFFSETTO:-0400
TZNAME:EDT
DTSTART:20220313T070000
END:DAYLIGHT
BEGIN:STANDARD
TZOFFSETFROM:-0400
TZOFFSETTO:-0500
TZNAME:EST
DTSTART:20221106T060000
END:STANDARD
BEGIN:DAYLIGHT
TZOFFSETFROM:-0500
TZOFFSETTO:-0400
TZNAME:EDT
DTSTART:20230312T070000
END:DAYLIGHT
BEGIN:STANDARD
TZOFFSETFROM:-0400
TZOFFSETTO:-0500
TZNAME:EST
DTSTART:20231105T060000
END:STANDARD
BEGIN:DAYLIGHT
TZOFFSETFROM:-0500
TZOFFSETTO:-0400
TZNAME:EDT
DTSTART:20240310T070000
END:DAYLIGHT
BEGIN:STANDARD
TZOFFSETFROM:-0400
TZOFFSETTO:-0500
TZNAME:EST
DTSTART:20241103T060000
END:STANDARD
END:VTIMEZONE
BEGIN:VEVENT
DTSTART;TZID=America/New_York:20230614T120000
DTEND;TZID=America/New_York:20230614T133000
DTSTAMP:20260425T213526
CREATED:20230518T175310Z
LAST-MODIFIED:20241125T225705Z
UID:10004727-1686744000-1686749400@gradschool.cornell.edu
SUMMARY:Writing a Statement of Contributions to Diversity\, Equity\, and Inclusion
DESCRIPTION:Come discuss how to approach writing the diversity statement sometimes requested as part of academic faculty or postdoctoral job applications. We will share examples and guidance from Cornell and other colleges and universities and prompt you to think about ways in which you do\, or could\, contribute to a university’s mission. \nFacilitators: Christine Holmes\, Director of Postdoctoral Studies; Colleen McLinn\, Associate Dean for Professional Development\, Cornell Graduate School; Derina Samuel\, Associate Director for Graduate Student Development\, Center for Teaching Innovation \nRegister to attend. \nCo-sponsored by the Office of Postdoctoral Studies and Future Faculty and Academic Careers\, as part of the Graduate School’s Academic Job Search Series.
URL:https://gradschool.cornell.edu/event/academic-job-search-series-writing-a-statement-of-contributions-to-diversity-equity-and-inclusion-2023/
LOCATION:Zoom
CATEGORIES:Future Faculty and Academic Careers
GEO:40.7127753;-74.0059728
END:VEVENT
BEGIN:VEVENT
DTSTART;TZID=America/New_York:20230614T180000
DTEND;TZID=America/New_York:20230614T200000
DTSTAMP:20260425T213526
CREATED:20230602T185222Z
LAST-MODIFIED:20241125T225920Z
UID:10004762-1686765600-1686772800@gradschool.cornell.edu
SUMMARY:BRB Presents: The Summer Book Club
DESCRIPTION: \nDebate humanity’s flaws\, escape from Soviet Russia\, combine music\, math\, and AI\, and live as a soldier this summer. Pick the books you would like to discuss and join us for passionate conversations! \n \nStarting Wednesday\, June 14th from 6pm-8pm!\n \nTo see the complete list and sign up for free pdfs click here: https://cornell.ca1.qualtrics.com/jfe/form/SV_eYfks5JdbxnbuHI 
URL:https://gradschool.cornell.edu/event/brb-presents-the-summer-book-club/
LOCATION:Big Red Barn\, 135 Presidents Way\, Ithaca\, NY\, 14853\, United States
GEO:42.449516;-76.4806268
X-APPLE-STRUCTURED-LOCATION;VALUE=URI;X-ADDRESS=Big Red Barn 135 Presidents Way Ithaca NY 14853 United States;X-APPLE-RADIUS=500;X-TITLE=135 Presidents Way:geo:-76.4806268,42.449516
END:VEVENT
BEGIN:VEVENT
DTSTART;TZID=America/New_York:20230614T190000
DTEND;TZID=America/New_York:20230614T210000
DTSTAMP:20260425T213526
CREATED:20230601T210823Z
LAST-MODIFIED:20241125T230324Z
UID:10004748-1686769200-1686776400@gradschool.cornell.edu
SUMMARY:Swing Dance at the Barn
DESCRIPTION:Learn this famous big band social dance including styles like lindy hop\, charleston\, and more! 7pm-9pm at the Big Red Barn. Open to all! \n  \n 
URL:https://gradschool.cornell.edu/event/swing-dance-at-the-barn-2/2023-06-14/
END:VEVENT
END:VCALENDAR