BEGIN:VCALENDAR
VERSION:2.0
PRODID:-//Graduate School - ECPv6.15.18//NONSGML v1.0//EN
CALSCALE:GREGORIAN
METHOD:PUBLISH
X-WR-CALNAME:Graduate School
X-ORIGINAL-URL:https://gradschool.cornell.edu
X-WR-CALDESC:Events for Graduate School
REFRESH-INTERVAL;VALUE=DURATION:PT1H
X-Robots-Tag:noindex
X-PUBLISHED-TTL:PT1H
BEGIN:VTIMEZONE
TZID:America/New_York
BEGIN:DAYLIGHT
TZOFFSETFROM:-0500
TZOFFSETTO:-0400
TZNAME:EDT
DTSTART:20220313T070000
END:DAYLIGHT
BEGIN:STANDARD
TZOFFSETFROM:-0400
TZOFFSETTO:-0500
TZNAME:EST
DTSTART:20221106T060000
END:STANDARD
BEGIN:DAYLIGHT
TZOFFSETFROM:-0500
TZOFFSETTO:-0400
TZNAME:EDT
DTSTART:20230312T070000
END:DAYLIGHT
BEGIN:STANDARD
TZOFFSETFROM:-0400
TZOFFSETTO:-0500
TZNAME:EST
DTSTART:20231105T060000
END:STANDARD
BEGIN:DAYLIGHT
TZOFFSETFROM:-0500
TZOFFSETTO:-0400
TZNAME:EDT
DTSTART:20240310T070000
END:DAYLIGHT
BEGIN:STANDARD
TZOFFSETFROM:-0400
TZOFFSETTO:-0500
TZNAME:EST
DTSTART:20241103T060000
END:STANDARD
END:VTIMEZONE
BEGIN:VEVENT
DTSTART;TZID=America/New_York:20230817T090000
DTEND;TZID=America/New_York:20230817T100000
DTSTAMP:20260425T231523
CREATED:20230622T201321Z
LAST-MODIFIED:20241125T230324Z
UID:10004766-1692262800-1692266400@gradschool.cornell.edu
SUMMARY:Dean's Welcome for New Graduate and Professional Students
DESCRIPTION:Welcome new Cornell graduate and professional students! You’re invited to the Dean’s Welcome at 9 a.m. on August 17\, 2023 in Bailey Hall. Cornell’s president\, the Graduate School dean\, and a panel of faculty and students will welcome new students and share advice. \nDean’s Welcome Agenda\nIntroduction and Land Acknowledgement\nKathryn J. Boor\nDean of the Graduate School and Vice Provost for Graduate Education \nCornell University Welcome\nMartha E. Pollack\nCornell University President \nCornell and Graduate School Welcome\nKathryn J. Boor\nDean of the Graduate School and Vice Provost for Graduate Education \nFaculty and Student Panel\nA panel of esteemed faculty and students will answer questions from the audience about how to make the most of your graduate school experience
URL:https://gradschool.cornell.edu/event/deans-welcome-for-new-graduate-and-professional-students/
LOCATION:Bailey Hall\, 230 Garden Ave\, Ithaca\, NY\, 14853\, United States
CATEGORIES:Future Faculty and Academic Careers
END:VEVENT
BEGIN:VEVENT
DTSTART;TZID=America/New_York:20230817T190000
DTEND;TZID=America/New_York:20230817T210000
DTSTAMP:20260425T231523
CREATED:20230601T210242Z
LAST-MODIFIED:20241125T230323Z
UID:10004737-1692298800-1692306000@gradschool.cornell.edu
SUMMARY:Summer Trivia at the Barn
DESCRIPTION:Summer Trivia at the Barn\nJoin us for a fun night of trivia with your fellow grad students. Get to know your colleagues and new or old friends!\n \nNew to trivia or need a team? We will help pair you up!\nThursday\, 7:00pm-9:00pm
URL:https://gradschool.cornell.edu/event/summer-trivia-2/2023-08-17/
LOCATION:Big Red Barn\, 135 Presidents Way\, Ithaca\, NY\, 14853\, United States
GEO:42.449516;-76.4806268
X-APPLE-STRUCTURED-LOCATION;VALUE=URI;X-ADDRESS=Big Red Barn 135 Presidents Way Ithaca NY 14853 United States;X-APPLE-RADIUS=500;X-TITLE=135 Presidents Way:geo:-76.4806268,42.449516
END:VEVENT
END:VCALENDAR