BEGIN:VCALENDAR
VERSION:2.0
PRODID:-//Graduate School - ECPv6.15.18//NONSGML v1.0//EN
CALSCALE:GREGORIAN
METHOD:PUBLISH
X-WR-CALNAME:Graduate School
X-ORIGINAL-URL:https://gradschool.cornell.edu
X-WR-CALDESC:Events for Graduate School
REFRESH-INTERVAL;VALUE=DURATION:PT1H
X-Robots-Tag:noindex
X-PUBLISHED-TTL:PT1H
BEGIN:VTIMEZONE
TZID:America/New_York
BEGIN:DAYLIGHT
TZOFFSETFROM:-0500
TZOFFSETTO:-0400
TZNAME:EDT
DTSTART:20220313T070000
END:DAYLIGHT
BEGIN:STANDARD
TZOFFSETFROM:-0400
TZOFFSETTO:-0500
TZNAME:EST
DTSTART:20221106T060000
END:STANDARD
BEGIN:DAYLIGHT
TZOFFSETFROM:-0500
TZOFFSETTO:-0400
TZNAME:EDT
DTSTART:20230312T070000
END:DAYLIGHT
BEGIN:STANDARD
TZOFFSETFROM:-0400
TZOFFSETTO:-0500
TZNAME:EST
DTSTART:20231105T060000
END:STANDARD
BEGIN:DAYLIGHT
TZOFFSETFROM:-0500
TZOFFSETTO:-0400
TZNAME:EDT
DTSTART:20240310T070000
END:DAYLIGHT
BEGIN:STANDARD
TZOFFSETFROM:-0400
TZOFFSETTO:-0500
TZNAME:EST
DTSTART:20241103T060000
END:STANDARD
END:VTIMEZONE
BEGIN:VEVENT
DTSTART;TZID=America/New_York:20230921T170000
DTEND;TZID=America/New_York:20230921T190000
DTSTAMP:20260425T140413
CREATED:20230809T154151Z
LAST-MODIFIED:20241125T225749Z
UID:10004769-1695315600-1695322800@gradschool.cornell.edu
SUMMARY:Graduate Diversity & Inclusion Fall Mixer
DESCRIPTION:The Graduate School Office of Inclusion and Student Engagement & The Graduate and Professional Student Diversity Council Presents:\nGraduate Diversity & Inclusion Fall Mixer\nKick off the new academic year with graduate and professional students\, postdocs\, faculty\, staff and other community members to celebrate and develop connections. Finger foods and drinks will be provided. This event is co-hosted by the Graduate School Office of Inclusion & Student Engagement (OISE) and graduate student organizations represented on the Graduate & Professional Student Diversity Council: Black Graduate & Professional Student Association (BGPSA)\, First Generation and Low Income Graduate Student Association (FiGLI)\, Graduate Womxn in Science (GWiS)\, Indigenous Graduate Student Association (IGSA)\, Latinx Graduate Student Coalition (LGSC)\, Multicultural Academic Council (MAC)\, QGrads (LGBTQ+ Graduate Student Association)\, the Society for Asian American Graduate Affairs (SAAGA)\, and the Society for Advancement of Chicanos/Hispanics and Native Americans in Science (SACNAS). \nWhere: G10 Biotech\nDress: Come as you are \nRegister Here
URL:https://gradschool.cornell.edu/event/graduate-diversity-inclusion-welcome-reception-3/
LOCATION:G10 Biotechnology Building\, 526 Campus Road\, Ithaca\, NY\, 14853\, United States
ORGANIZER;CN="Office of Inclusion and Student Engagement":MAILTO:grad_assoc_dean@cornell.edu
GEO:42.4465542;-76.4783618
X-APPLE-STRUCTURED-LOCATION;VALUE=URI;X-ADDRESS=G10 Biotechnology Building 526 Campus Road Ithaca NY 14853 United States;X-APPLE-RADIUS=500;X-TITLE=526 Campus Road:geo:-76.4783618,42.4465542
END:VEVENT
END:VCALENDAR