BEGIN:VCALENDAR
VERSION:2.0
PRODID:-//Graduate School - ECPv6.15.18//NONSGML v1.0//EN
CALSCALE:GREGORIAN
METHOD:PUBLISH
X-WR-CALNAME:Graduate School
X-ORIGINAL-URL:https://gradschool.cornell.edu
X-WR-CALDESC:Events for Graduate School
REFRESH-INTERVAL;VALUE=DURATION:PT1H
X-Robots-Tag:noindex
X-PUBLISHED-TTL:PT1H
BEGIN:VTIMEZONE
TZID:America/New_York
BEGIN:DAYLIGHT
TZOFFSETFROM:-0500
TZOFFSETTO:-0400
TZNAME:EDT
DTSTART:20220313T070000
END:DAYLIGHT
BEGIN:STANDARD
TZOFFSETFROM:-0400
TZOFFSETTO:-0500
TZNAME:EST
DTSTART:20221106T060000
END:STANDARD
BEGIN:DAYLIGHT
TZOFFSETFROM:-0500
TZOFFSETTO:-0400
TZNAME:EDT
DTSTART:20230312T070000
END:DAYLIGHT
BEGIN:STANDARD
TZOFFSETFROM:-0400
TZOFFSETTO:-0500
TZNAME:EST
DTSTART:20231105T060000
END:STANDARD
BEGIN:DAYLIGHT
TZOFFSETFROM:-0500
TZOFFSETTO:-0400
TZNAME:EDT
DTSTART:20240310T070000
END:DAYLIGHT
BEGIN:STANDARD
TZOFFSETFROM:-0400
TZOFFSETTO:-0500
TZNAME:EST
DTSTART:20241103T060000
END:STANDARD
END:VTIMEZONE
BEGIN:VEVENT
DTSTART;TZID=America/New_York:20231003T120000
DTEND;TZID=America/New_York:20231003T130000
DTSTAMP:20260425T120603
CREATED:20230818T190610Z
LAST-MODIFIED:20241125T230026Z
UID:10004776-1696334400-1696338000@gradschool.cornell.edu
SUMMARY:Should I Do a Postdoc?
DESCRIPTION:Are you a graduate student wondering if you might want to seek a postdoctoral position on the way to the next stage of your career? Come hear an interactive presentation and engage in breakout discussion and question and answer by general field of study. Topics discussed will include: reasons to do a postdoctoral position\, types of postdocs\, how to apply and get funded.  \nRegister to attend. \nPresented by Graduate School Career and Professional Development staff and aimed at Ph.D. students and postdoctoral scholars. \nPresenters: Christine Holmes\, Director of Postdoctoral Studies; Colleen McLinn\, Associate Dean for Professional Development\, and Susi Varvayanis\, Executive Director of Careers Beyond Academia
URL:https://gradschool.cornell.edu/event/should-i-do-a-postdoc/
LOCATION:Zoom
CATEGORIES:Careers Beyond Academia,Future Faculty and Academic Careers
GEO:40.7127753;-74.0059728
END:VEVENT
BEGIN:VEVENT
DTSTART;TZID=America/New_York:20231003T200000
DTEND;TZID=America/New_York:20231003T220000
DTSTAMP:20260425T120603
CREATED:20230822T000440Z
LAST-MODIFIED:20241125T230325Z
UID:10004114-1696363200-1696370400@gradschool.cornell.edu
SUMMARY:Trivia at the Barn
DESCRIPTION:Join us for a fun night of trivia with your fellow grad students. Get to know your colleagues and new or old friends!\nNew to trivia or need a team? We will help pair you up!\n \nDate: Tuesdays\nTime: 8:00pm-10:00pm\nLocation: Big Red Barn
URL:https://gradschool.cornell.edu/event/trivia-at-the-barn-2/2023-10-03/
LOCATION:Big Red Barn\, 135 Presidents Way\, Ithaca\, NY\, 14853\, United States
GEO:42.449516;-76.4806268
X-APPLE-STRUCTURED-LOCATION;VALUE=URI;X-ADDRESS=Big Red Barn 135 Presidents Way Ithaca NY 14853 United States;X-APPLE-RADIUS=500;X-TITLE=135 Presidents Way:geo:-76.4806268,42.449516
END:VEVENT
END:VCALENDAR