BEGIN:VCALENDAR
VERSION:2.0
PRODID:-//Graduate School - ECPv6.15.18//NONSGML v1.0//EN
CALSCALE:GREGORIAN
METHOD:PUBLISH
X-WR-CALNAME:Graduate School
X-ORIGINAL-URL:https://gradschool.cornell.edu
X-WR-CALDESC:Events for Graduate School
REFRESH-INTERVAL;VALUE=DURATION:PT1H
X-Robots-Tag:noindex
X-PUBLISHED-TTL:PT1H
BEGIN:VTIMEZONE
TZID:America/New_York
BEGIN:DAYLIGHT
TZOFFSETFROM:-0500
TZOFFSETTO:-0400
TZNAME:EDT
DTSTART:20220313T070000
END:DAYLIGHT
BEGIN:STANDARD
TZOFFSETFROM:-0400
TZOFFSETTO:-0500
TZNAME:EST
DTSTART:20221106T060000
END:STANDARD
BEGIN:DAYLIGHT
TZOFFSETFROM:-0500
TZOFFSETTO:-0400
TZNAME:EDT
DTSTART:20230312T070000
END:DAYLIGHT
BEGIN:STANDARD
TZOFFSETFROM:-0400
TZOFFSETTO:-0500
TZNAME:EST
DTSTART:20231105T060000
END:STANDARD
BEGIN:DAYLIGHT
TZOFFSETFROM:-0500
TZOFFSETTO:-0400
TZNAME:EDT
DTSTART:20240310T070000
END:DAYLIGHT
BEGIN:STANDARD
TZOFFSETFROM:-0400
TZOFFSETTO:-0500
TZNAME:EST
DTSTART:20241103T060000
END:STANDARD
END:VTIMEZONE
BEGIN:VEVENT
DTSTART;TZID=America/New_York:20231025T120000
DTEND;TZID=America/New_York:20231025T130000
DTSTAMP:20260425T203440
CREATED:20231019T210117Z
LAST-MODIFIED:20241125T225750Z
UID:10004781-1698235200-1698238800@gradschool.cornell.edu
SUMMARY:HHMI Gilliam Fellows Program Info Session
DESCRIPTION:The Graduate School\, in partnership with the College of Veterinary Medicine and the Office of the Vice President for Research and Innovation\, is hosting a virtual information session with former Gilliam Fellows on October 25\, from noon to 1pm. Register to attend. \nThe Gilliam Fellows Program supports pairs of graduate students and their faculty advisers who\, together\, embody scientific leadership\, an important component of which is a commitment to building an equitable and inclusive science culture. Gilliam Fellows Program awards support students for up to three years of their dissertation research\, typically in years 3–5 of their Ph.D. studies. Applications open October 19\, the deadline is December 7\, 2023. \nFor more information\, visit hhmi.org/gilliam
URL:https://gradschool.cornell.edu/event/hhmi-gilliam-fellows-program-info-session/
LOCATION:Zoom
GEO:40.7127753;-74.0059728
END:VEVENT
END:VCALENDAR