BEGIN:VCALENDAR
VERSION:2.0
PRODID:-//Graduate School - ECPv6.15.18//NONSGML v1.0//EN
CALSCALE:GREGORIAN
METHOD:PUBLISH
X-ORIGINAL-URL:https://gradschool.cornell.edu
X-WR-CALDESC:Events for Graduate School
REFRESH-INTERVAL;VALUE=DURATION:PT1H
X-Robots-Tag:noindex
X-PUBLISHED-TTL:PT1H
BEGIN:VTIMEZONE
TZID:America/New_York
BEGIN:DAYLIGHT
TZOFFSETFROM:-0500
TZOFFSETTO:-0400
TZNAME:EDT
DTSTART:20220313T070000
END:DAYLIGHT
BEGIN:STANDARD
TZOFFSETFROM:-0400
TZOFFSETTO:-0500
TZNAME:EST
DTSTART:20221106T060000
END:STANDARD
BEGIN:DAYLIGHT
TZOFFSETFROM:-0500
TZOFFSETTO:-0400
TZNAME:EDT
DTSTART:20230312T070000
END:DAYLIGHT
BEGIN:STANDARD
TZOFFSETFROM:-0400
TZOFFSETTO:-0500
TZNAME:EST
DTSTART:20231105T060000
END:STANDARD
BEGIN:DAYLIGHT
TZOFFSETFROM:-0500
TZOFFSETTO:-0400
TZNAME:EDT
DTSTART:20240310T070000
END:DAYLIGHT
BEGIN:STANDARD
TZOFFSETFROM:-0400
TZOFFSETTO:-0500
TZNAME:EST
DTSTART:20241103T060000
END:STANDARD
END:VTIMEZONE
BEGIN:VEVENT
DTSTART;TZID=America/New_York:20231209T190000
DTEND;TZID=America/New_York:20231209T230000
DTSTAMP:20260420T135400
CREATED:20231120T174156Z
LAST-MODIFIED:20241125T230328Z
UID:10004784-1702148400-1702162800@gradschool.cornell.edu
SUMMARY:12th Annual Renaissance Ball
DESCRIPTION:Join the Graduate & Professional Student Diversity Council for the 2023 Renaissance Ball: Golden Age of Hollywood! \nDate/Time: December 9\, 7-11:00 pm ET \nTickets Sales: https://vivenu.com/event/renaissance-ball-z8lieq \n\nEarly Bird (when the link goes live – December 3): $15\nWeek of (starting December 4 – 8): $18\nDay of (December 9): $20\n\nFounded by the Black Graduate and Professional Student Association (BGPSA) in 2011\, the Renaissance Ball\, which is named in honor of the Harlem Renaissance\, celebrates the diversity of the Cornell graduate community and promotes the inclusion of all of its members. \nThe annual Renaissance Ball has since evolved into a collaborative effort of the graduate student organization represented on the Graduate and Professional Student Diversity Council\, and brings together graduate and professional students for a night of live music\, great food\, dancing\, and community. \nThis event is supported by the GPSA-FC and is open to all graduate and professional students! Co-hosted by the Graduate School Office of Inclusion & Student Engagement\, and the member organizations of the GPS DC: The Arab Graduate Student Association\, Black Graduate and Professional Student Association\, First Generation and Low-Income Graduate Student Organization\, Graduate Women in Science\, Indigenous Graduate Student Association\, Latinx Graduate Student Coalition\, Multicultural Academic Council\, LGBTQ+ Graduate Student Organization\, Society for Asian American Graduate Affairs\, and the Society for Advancement of Chicanos/Hispanics and Native Americans in Science. \n 
URL:https://gradschool.cornell.edu/event/12th-annual-renaissance-ball/
END:VEVENT
END:VCALENDAR