BEGIN:VCALENDAR
VERSION:2.0
PRODID:-//Graduate School - ECPv6.15.18//NONSGML v1.0//EN
CALSCALE:GREGORIAN
METHOD:PUBLISH
X-ORIGINAL-URL:https://gradschool.cornell.edu
X-WR-CALDESC:Events for Graduate School
REFRESH-INTERVAL;VALUE=DURATION:PT1H
X-Robots-Tag:noindex
X-PUBLISHED-TTL:PT1H
BEGIN:VTIMEZONE
TZID:America/New_York
BEGIN:DAYLIGHT
TZOFFSETFROM:-0500
TZOFFSETTO:-0400
TZNAME:EDT
DTSTART:20220313T070000
END:DAYLIGHT
BEGIN:STANDARD
TZOFFSETFROM:-0400
TZOFFSETTO:-0500
TZNAME:EST
DTSTART:20221106T060000
END:STANDARD
BEGIN:DAYLIGHT
TZOFFSETFROM:-0500
TZOFFSETTO:-0400
TZNAME:EDT
DTSTART:20230312T070000
END:DAYLIGHT
BEGIN:STANDARD
TZOFFSETFROM:-0400
TZOFFSETTO:-0500
TZNAME:EST
DTSTART:20231105T060000
END:STANDARD
BEGIN:DAYLIGHT
TZOFFSETFROM:-0500
TZOFFSETTO:-0400
TZNAME:EDT
DTSTART:20240310T070000
END:DAYLIGHT
BEGIN:STANDARD
TZOFFSETFROM:-0400
TZOFFSETTO:-0500
TZNAME:EST
DTSTART:20241103T060000
END:STANDARD
END:VTIMEZONE
BEGIN:VEVENT
DTSTART;TZID=America/New_York:20231211T080000
DTEND;TZID=America/New_York:20231211T170000
DTSTAMP:20260420T135402
CREATED:20230822T183142Z
LAST-MODIFIED:20241125T230327Z
UID:10004159-1702281600-1702314000@gradschool.cornell.edu
SUMMARY:Language Circle at the Barn
DESCRIPTION:Join us every Monday starting February 6th to learn a new language\, brush up on an old one\, or get more fluent through conversations with fellow graduate students who study these languages or are native speakers. We have facilitators for French\, Spanish\, German\, Korean\, Chinese\, Russian\, Arabic\, Japanese and more.\n \nP.S. This is an expansion of the well-established Sprachcafé\, for those looking for its flyer.\n \nDate: Every Monday (Starting August 28th)\nTime: 5pm-6pm\nLocation: Big Red Barn
URL:https://gradschool.cornell.edu/event/language-circle-at-the-barn/2023-12-11/
LOCATION:Big Red Barn\, 135 Presidents Way\, Ithaca\, NY\, 14853\, United States
GEO:42.449516;-76.4806268
X-APPLE-STRUCTURED-LOCATION;VALUE=URI;X-ADDRESS=Big Red Barn 135 Presidents Way Ithaca NY 14853 United States;X-APPLE-RADIUS=500;X-TITLE=135 Presidents Way:geo:-76.4806268,42.449516
END:VEVENT
BEGIN:VEVENT
DTSTART;TZID=America/New_York:20231211T160000
DTEND;TZID=America/New_York:20231211T173000
DTSTAMP:20260420T135402
CREATED:20231127T142706Z
LAST-MODIFIED:20260121T185528Z
UID:10004787-1702310400-1702315800@gradschool.cornell.edu
SUMMARY:OISE Dine & Engage
DESCRIPTION:The OISE Dine & Engage is a series of informal and intimate dinners where faculty members will have the opportunity to share their life and professional journeys while engaging with our vibrant graduate community. By facilitating these interactions\, we aim to cultivate a stronger sense of belonging and boost student-faculty collaboration at Cornell. \nThis is an initiative of the Office of Inclusion and Student Engagement and a testament to our commitment to creating a supportive and inclusive environment where diverse voices are heard\, valued\, and appreciated. \nThis is a space-limited event. RSVP required!
URL:https://gradschool.cornell.edu/event/oise-dine-engage-fostering-connections-and-sharing-experiences-at-cornell/
END:VEVENT
END:VCALENDAR