BEGIN:VCALENDAR
VERSION:2.0
PRODID:-//Graduate School - ECPv6.15.18//NONSGML v1.0//EN
CALSCALE:GREGORIAN
METHOD:PUBLISH
X-ORIGINAL-URL:https://gradschool.cornell.edu
X-WR-CALDESC:Events for Graduate School
REFRESH-INTERVAL;VALUE=DURATION:PT1H
X-Robots-Tag:noindex
X-PUBLISHED-TTL:PT1H
BEGIN:VTIMEZONE
TZID:America/New_York
BEGIN:DAYLIGHT
TZOFFSETFROM:-0500
TZOFFSETTO:-0400
TZNAME:EDT
DTSTART:20220313T070000
END:DAYLIGHT
BEGIN:STANDARD
TZOFFSETFROM:-0400
TZOFFSETTO:-0500
TZNAME:EST
DTSTART:20221106T060000
END:STANDARD
BEGIN:DAYLIGHT
TZOFFSETFROM:-0500
TZOFFSETTO:-0400
TZNAME:EDT
DTSTART:20230312T070000
END:DAYLIGHT
BEGIN:STANDARD
TZOFFSETFROM:-0400
TZOFFSETTO:-0500
TZNAME:EST
DTSTART:20231105T060000
END:STANDARD
BEGIN:DAYLIGHT
TZOFFSETFROM:-0500
TZOFFSETTO:-0400
TZNAME:EDT
DTSTART:20240310T070000
END:DAYLIGHT
BEGIN:STANDARD
TZOFFSETFROM:-0400
TZOFFSETTO:-0500
TZNAME:EST
DTSTART:20241103T060000
END:STANDARD
END:VTIMEZONE
BEGIN:VEVENT
DTSTART;TZID=America/New_York:20231214T100000
DTEND;TZID=America/New_York:20231214T113000
DTSTAMP:20260423T001931
CREATED:20231211T175110Z
LAST-MODIFIED:20241125T230403Z
UID:10004788-1702548000-1702553400@gradschool.cornell.edu
SUMMARY:CNY Humanities Corridor: Open Access Book Publishing Panel
DESCRIPTION:While the conversations (and funding) for OA have primarily focused on journals and the STEM disciplines\, OA book publishing options for humanities disciplines are expanding in university presses across the globe. \nWhat is “open access publishing?” Is open access right for me as an author? How do I cultivate relationships with presses? What should I ask my publisher? How do I advocate for open access support at my institution? What do editors think about our open access future? \nJoin us for a lively conversation with leading OA publishers to get answers to these questions! Participants will also benefit from hearing insider perspectives on developing OA programs within the world of academic publishing and the future of open access. \nOpen Access Book Publishing: In Conversation with University of California\, University of Michigan\, and MIT Presses\nThursday\, Dec. 14\, 2023\, 10 a.m. – 11:30 a.m.\non Zoom (register now) \nCornell scholars (including graduate students and postdocs) are invited to sign up for a free panel discussion sponsored by the CNY Humanities Corridor — organized by the Corridor Futures & Initiatives (HF4) Working Group\, with additional support from the Syracuse University Office of Research and Syracuse University Libraries. \nPanelists:\n\nDylan Mohr (Syracuse University)\nAmy Harris (MIT)\nRaina Polivka (University of California)\nCharles Watkinson (University of Michigan)\n\nMore info or register now. \nBe sure to keep an eye on the Corridor website and calendar for other ways to engage and collaborate\, or read about Cornell engagement with the network.  \nQuestions? Email cnyhumanities@syr.edu.
URL:https://gradschool.cornell.edu/event/cny-humanities-corridor-book-publishing-workshops-2023/
LOCATION:Online
CATEGORIES:Careers Beyond Academia,Future Faculty and Academic Careers
ATTACH;FMTTYPE=image/png:https://gradschool.cornell.edu/wp-content/uploads/2021/08/Logo_CNY-humanities-729x173-1.png
END:VEVENT
END:VCALENDAR