BEGIN:VCALENDAR
VERSION:2.0
PRODID:-//Graduate School - ECPv6.15.18//NONSGML v1.0//EN
CALSCALE:GREGORIAN
METHOD:PUBLISH
X-ORIGINAL-URL:https://gradschool.cornell.edu
X-WR-CALDESC:Events for Graduate School
REFRESH-INTERVAL;VALUE=DURATION:PT1H
X-Robots-Tag:noindex
X-PUBLISHED-TTL:PT1H
BEGIN:VTIMEZONE
TZID:America/New_York
BEGIN:DAYLIGHT
TZOFFSETFROM:-0500
TZOFFSETTO:-0400
TZNAME:EDT
DTSTART:20230312T070000
END:DAYLIGHT
BEGIN:STANDARD
TZOFFSETFROM:-0400
TZOFFSETTO:-0500
TZNAME:EST
DTSTART:20231105T060000
END:STANDARD
BEGIN:DAYLIGHT
TZOFFSETFROM:-0500
TZOFFSETTO:-0400
TZNAME:EDT
DTSTART:20240310T070000
END:DAYLIGHT
BEGIN:STANDARD
TZOFFSETFROM:-0400
TZOFFSETTO:-0500
TZNAME:EST
DTSTART:20241103T060000
END:STANDARD
BEGIN:DAYLIGHT
TZOFFSETFROM:-0500
TZOFFSETTO:-0400
TZNAME:EDT
DTSTART:20250309T070000
END:DAYLIGHT
BEGIN:STANDARD
TZOFFSETFROM:-0400
TZOFFSETTO:-0500
TZNAME:EST
DTSTART:20251102T060000
END:STANDARD
END:VTIMEZONE
BEGIN:VEVENT
DTSTART;TZID=America/New_York:20240321T180000
DTEND;TZID=America/New_York:20240321T190000
DTSTAMP:20260423T032958
CREATED:20240321T143732Z
LAST-MODIFIED:20260203T212216Z
UID:10004190-1711044000-1711047600@gradschool.cornell.edu
SUMMARY:Fearlessly Curious Conversations: A discussion with author Mónica Guzmán
DESCRIPTION:This Freedom of Expression theme year event will be a moderated discussion with Mónica Guzmán\, author of “I Never Thought of It That Way: How to Have Fearlessly Curious Conversations in Dangerously Divided Times.”  \nMs. Guzmán is also a Senior Fellow for Public Practice at Braver Angels and the host of A Braver Way podcast. \nHosted by Professor Karl Lewis and co-sponsored by the College of Engineering\, Graduate School Office of Inclusion & Student Engagement\, Student & Campus Life\, and the Meinig School of Biomedical Engineering
URL:https://gradschool.cornell.edu/event/fearlessly-curious-conversations-a-discussion-with-author-monica-guzman/
LOCATION:Rhodes-Rawlings Auditorium\, Klarman Hall\, 232 Feeney Way\, Ithaca\, New York\, 14853
GEO:42.4490982;-76.4835079
X-APPLE-STRUCTURED-LOCATION;VALUE=URI;X-ADDRESS=Rhodes-Rawlings Auditorium Klarman Hall 232 Feeney Way Ithaca New York 14853;X-APPLE-RADIUS=500;X-TITLE=232 Feeney Way:geo:-76.4835079,42.4490982
END:VEVENT
END:VCALENDAR