BEGIN:VCALENDAR
VERSION:2.0
PRODID:-//Graduate School - ECPv6.15.18//NONSGML v1.0//EN
CALSCALE:GREGORIAN
METHOD:PUBLISH
X-ORIGINAL-URL:https://gradschool.cornell.edu
X-WR-CALDESC:Events for Graduate School
REFRESH-INTERVAL;VALUE=DURATION:PT1H
X-Robots-Tag:noindex
X-PUBLISHED-TTL:PT1H
BEGIN:VTIMEZONE
TZID:America/New_York
BEGIN:DAYLIGHT
TZOFFSETFROM:-0500
TZOFFSETTO:-0400
TZNAME:EDT
DTSTART:20230312T070000
END:DAYLIGHT
BEGIN:STANDARD
TZOFFSETFROM:-0400
TZOFFSETTO:-0500
TZNAME:EST
DTSTART:20231105T060000
END:STANDARD
BEGIN:DAYLIGHT
TZOFFSETFROM:-0500
TZOFFSETTO:-0400
TZNAME:EDT
DTSTART:20240310T070000
END:DAYLIGHT
BEGIN:STANDARD
TZOFFSETFROM:-0400
TZOFFSETTO:-0500
TZNAME:EST
DTSTART:20241103T060000
END:STANDARD
BEGIN:DAYLIGHT
TZOFFSETFROM:-0500
TZOFFSETTO:-0400
TZNAME:EDT
DTSTART:20250309T070000
END:DAYLIGHT
BEGIN:STANDARD
TZOFFSETFROM:-0400
TZOFFSETTO:-0500
TZNAME:EST
DTSTART:20251102T060000
END:STANDARD
END:VTIMEZONE
BEGIN:VEVENT
DTSTART;TZID=America/New_York:20240409T130000
DTEND;TZID=America/New_York:20240409T140000
DTSTAMP:20260423T033915
CREATED:20240402T200551Z
LAST-MODIFIED:20241125T230036Z
UID:10004192-1712667600-1712671200@gradschool.cornell.edu
SUMMARY:NYAS Pathways to Success: Effective Mentorship in STEM
DESCRIPTION:Mentorship is a collaborative learning relationship that benefits all participants. In fact\, effective mentorship is a key factor contributing to a high rate of degree attainment\, increased social and self awareness\, sharper communication skills\, career satisfaction\, and other benefits that last for many years. \nThe New York Academy of Sciences is thrilled to partner with the National Research Mentoring Network (NRMN) to provide a free online webinar highlighting the potential and importance of effective mentorship in STEM. NRMN’s mission is to provide researchers across all career stages in the biomedical\, behavioral\, clinical\, and social sciences with the evidence-based mentorship and professional development programming that emphasizes the benefits and challenges of diversity\, inclusivity and culture.  \nThis event is tailored for individuals at all ages and professional levels looking to enrich their career through collaborating and learning from a mentor or mentee\, and for anyone interested in sharing this information with their network. Join the webinar and learn from experts in the field about how effective mentorship can benefit you and your community. \nRegister for the webinar. \nSign up for free a Membership to the New York Academy of Sciences\nTo support your professional and career development\, Cornell University will sponsor a complimentary 1-year Membership to the New York Academy of Sciences for any interested undergraduate and graduate student\, postdoc\, faculty and staff member. For over 200 years\, the Academy has helped scientists\, engineers\, and innovators pursue successful careers.  To request a sponsored membership\, sign up at NYAS.ORG/CORNELL
URL:https://gradschool.cornell.edu/event/nyas-pathways-to-success-effective-mentorship-in-stem/
LOCATION:Webinar
CATEGORIES:Careers Beyond Academia
END:VEVENT
BEGIN:VEVENT
DTSTART;TZID=America/New_York:20240409T183000
DTEND;TZID=America/New_York:20240409T200000
DTSTAMP:20260423T033915
CREATED:20240125T195004Z
LAST-MODIFIED:20241125T230329Z
UID:10004843-1712687400-1712692800@gradschool.cornell.edu
SUMMARY:Knitting at the Barn
DESCRIPTION:Knitting at the Barn \nFor all skill and interest levels – guidance and all materials will be provided if needed! For both those with an interest in learning fiber arts and those who want to make steady progress on an existing project in the company of fellow knitters. This event usually takes place at 1-2 tables in the main area of the Barn; if it’s your first time attending please come say hi to the table with all the yarn!  \nTuesdays at 6:30-8:00 PM at the Big Red Barn  \nJanuary 23 to May 14\, 2024 \nIf you would like to keep updated about these sessions or are unable to find anyone during the session\, please email brb.art.fellow@cornell.edu.
URL:https://gradschool.cornell.edu/event/knitting-at-the-barn-4/2024-04-09/
LOCATION:Big Red Barn\, 135 Presidents Way\, Ithaca\, NY\, 14853\, United States
GEO:42.449516;-76.4806268
X-APPLE-STRUCTURED-LOCATION;VALUE=URI;X-ADDRESS=Big Red Barn 135 Presidents Way Ithaca NY 14853 United States;X-APPLE-RADIUS=500;X-TITLE=135 Presidents Way:geo:-76.4806268,42.449516
END:VEVENT
BEGIN:VEVENT
DTSTART;TZID=America/New_York:20240409T200000
DTEND;TZID=America/New_York:20240409T220000
DTSTAMP:20260423T033915
CREATED:20240125T194642Z
LAST-MODIFIED:20241125T230329Z
UID:10004825-1712692800-1712700000@gradschool.cornell.edu
SUMMARY:Big Red Barn Trivia Night
DESCRIPTION:Trivia \nJoin us for a fun night of trivia with your fellow grad students. Get to know your colleagues and new or old friends! \nNew to trivia or need a team? We will help pair you up!
URL:https://gradschool.cornell.edu/event/big-red-barn-trivia-night-2/2024-04-09/
LOCATION:Big Red Barn\, 135 Presidents Way\, Ithaca\, NY\, 14853\, United States
GEO:42.449516;-76.4806268
X-APPLE-STRUCTURED-LOCATION;VALUE=URI;X-ADDRESS=Big Red Barn 135 Presidents Way Ithaca NY 14853 United States;X-APPLE-RADIUS=500;X-TITLE=135 Presidents Way:geo:-76.4806268,42.449516
END:VEVENT
END:VCALENDAR