BEGIN:VCALENDAR
VERSION:2.0
PRODID:-//Graduate School - ECPv6.15.18//NONSGML v1.0//EN
CALSCALE:GREGORIAN
METHOD:PUBLISH
X-WR-CALNAME:Graduate School
X-ORIGINAL-URL:https://gradschool.cornell.edu
X-WR-CALDESC:Events for Graduate School
REFRESH-INTERVAL;VALUE=DURATION:PT1H
X-Robots-Tag:noindex
X-PUBLISHED-TTL:PT1H
BEGIN:VTIMEZONE
TZID:America/New_York
BEGIN:DAYLIGHT
TZOFFSETFROM:-0500
TZOFFSETTO:-0400
TZNAME:EDT
DTSTART:20230312T070000
END:DAYLIGHT
BEGIN:STANDARD
TZOFFSETFROM:-0400
TZOFFSETTO:-0500
TZNAME:EST
DTSTART:20231105T060000
END:STANDARD
BEGIN:DAYLIGHT
TZOFFSETFROM:-0500
TZOFFSETTO:-0400
TZNAME:EDT
DTSTART:20240310T070000
END:DAYLIGHT
BEGIN:STANDARD
TZOFFSETFROM:-0400
TZOFFSETTO:-0500
TZNAME:EST
DTSTART:20241103T060000
END:STANDARD
BEGIN:DAYLIGHT
TZOFFSETFROM:-0500
TZOFFSETTO:-0400
TZNAME:EDT
DTSTART:20250309T070000
END:DAYLIGHT
BEGIN:STANDARD
TZOFFSETFROM:-0400
TZOFFSETTO:-0500
TZNAME:EST
DTSTART:20251102T060000
END:STANDARD
END:VTIMEZONE
BEGIN:VEVENT
DTSTART;TZID=America/New_York:20240524T150000
DTEND;TZID=America/New_York:20240524T170000
DTSTAMP:20260422T004756
CREATED:20240320T174600Z
LAST-MODIFIED:20241125T225926Z
UID:10004186-1716562800-1716570000@gradschool.cornell.edu
SUMMARY:Ph.D. Hooding Photos Prior to Recognition Ceremony
DESCRIPTION:The Graduate School invites our May Ph.D. graduates and their advisors to the ILR Conference Center for the opportunity to have a professional photographer capture images of the ceremonial hooding prior to the formal Ph.D. Recognition Ceremony on May 24\, 2024. Photos will be shared with graduates free of charge in the days following Commencement. \nThe doctoral hooding\, in which a faculty member places the hood over the shoulders of the graduate\, signifies the graduate’s success in completing their graduate program. \nPhotographers and photo backdrops will be available between 3 and 5 p.m. in room 229 of the ILR Conference Center\, which is immediately adjacent to Barton Hall on Garden Ave. Hundreds of doctoral graduates will be recognized at the event\, so please plan to arrive early to avoid a last-minute rush to take your photos. The photographers will not be available following the formal Ph.D. Recognition Ceremony\, but you may take photos yourself with your advisor after the ceremony. \nGraduates are free to invite their advisors or another committee member to perform the hooding. In addition\, Dean of the Graduate School and Vice Provost for Graduate Education\, Kathryn Boor\, will be available from 4 to 5 p.m. to hood graduates whose advisors are unable to attend. Graduates should wear their appropriate cap\, gown\, and hood. Faculty members may wear their regalia\, but it is not required. \nGraduates and their advisors do not need to RSVP to take advantage of this opportunity. \nPlease contact the Graduate School with any questions about this event: gradschool@cornell.edu.
URL:https://gradschool.cornell.edu/event/ph-d-hooding-photos-prior-to-recognition-ceremony-2/
LOCATION:ILR Conference Center\, King-Shaw Hall\, 140 Garden Avenue\, Ithaca\, NY\, 14853\, United States
GEO:42.4469974;-76.480085
X-APPLE-STRUCTURED-LOCATION;VALUE=URI;X-ADDRESS=ILR Conference Center King-Shaw Hall 140 Garden Avenue Ithaca NY 14853 United States;X-APPLE-RADIUS=500;X-TITLE=140 Garden Avenue:geo:-76.480085,42.4469974
END:VEVENT
BEGIN:VEVENT
DTSTART;TZID=America/New_York:20240524T163000
DTEND;TZID=America/New_York:20240524T190000
DTSTAMP:20260422T004756
CREATED:20240125T193302Z
LAST-MODIFIED:20241125T230329Z
UID:10004813-1716568200-1716577200@gradschool.cornell.edu
SUMMARY:TGIF (Tell Grads It's Friday)
DESCRIPTION:TGIF (Tell Grads It’s Friday) \nLooking to kick back and make some friends? Come celebrate with us as we welcome old and new graduate & professional students back to Cornell for the Big Red Barn’s signature event. Snacks\, music\, and drink specials! \nNo registration required; just attend.
URL:https://gradschool.cornell.edu/event/tgif-tell-grads-its-friday-4/2024-05-24/
LOCATION:Big Red Barn\, 135 Presidents Way\, Ithaca\, NY\, 14853\, United States
GEO:42.449516;-76.4806268
X-APPLE-STRUCTURED-LOCATION;VALUE=URI;X-ADDRESS=Big Red Barn 135 Presidents Way Ithaca NY 14853 United States;X-APPLE-RADIUS=500;X-TITLE=135 Presidents Way:geo:-76.4806268,42.449516
END:VEVENT
BEGIN:VEVENT
DTSTART;TZID=America/New_York:20240524T173000
DTEND;TZID=America/New_York:20240524T184500
DTSTAMP:20260422T004756
CREATED:20240320T174607Z
LAST-MODIFIED:20241125T225926Z
UID:10004188-1716571800-1716576300@gradschool.cornell.edu
SUMMARY:Ph.D. Recognition Ceremony
DESCRIPTION:The University PhD Recognition Ceremony will be held on Friday\, May 24 at 5:30 p.m. at Barton Hall. At this event\, we will celebrate and recognize the significant achievements of doctoral Ph.D.\, J.S.D.\, and D.M.A. graduates from August ’23\, December ’23\, and expected May ’24 and August ’24. This special ceremony is for all doctoral candidates to be individually recognized on stage and welcomed into the academy of scholars. Ph.D. candidates and their families\, friends\, and faculty members are invited to attend. A reception with light refreshments will immediately follow the ceremony.
URL:https://gradschool.cornell.edu/event/ph-d-recognition-ceremony/
LOCATION:Barton Hall\, 117 Statler Drive\, Ithaca\, New York\, 14853
GEO:42.4460311;-76.480747
X-APPLE-STRUCTURED-LOCATION;VALUE=URI;X-ADDRESS=Barton Hall 117 Statler Drive Ithaca New York 14853;X-APPLE-RADIUS=500;X-TITLE=117 Statler Drive:geo:-76.480747,42.4460311
END:VEVENT
END:VCALENDAR