BEGIN:VCALENDAR
VERSION:2.0
PRODID:-//Graduate School - ECPv6.15.18//NONSGML v1.0//EN
CALSCALE:GREGORIAN
METHOD:PUBLISH
X-WR-CALNAME:Graduate School
X-ORIGINAL-URL:https://gradschool.cornell.edu
X-WR-CALDESC:Events for Graduate School
REFRESH-INTERVAL;VALUE=DURATION:PT1H
X-Robots-Tag:noindex
X-PUBLISHED-TTL:PT1H
BEGIN:VTIMEZONE
TZID:America/New_York
BEGIN:DAYLIGHT
TZOFFSETFROM:-0500
TZOFFSETTO:-0400
TZNAME:EDT
DTSTART:20250309T070000
END:DAYLIGHT
BEGIN:STANDARD
TZOFFSETFROM:-0400
TZOFFSETTO:-0500
TZNAME:EST
DTSTART:20251102T060000
END:STANDARD
BEGIN:DAYLIGHT
TZOFFSETFROM:-0500
TZOFFSETTO:-0400
TZNAME:EDT
DTSTART:20260308T070000
END:DAYLIGHT
BEGIN:STANDARD
TZOFFSETFROM:-0400
TZOFFSETTO:-0500
TZNAME:EST
DTSTART:20261101T060000
END:STANDARD
BEGIN:DAYLIGHT
TZOFFSETFROM:-0500
TZOFFSETTO:-0400
TZNAME:EDT
DTSTART:20270314T070000
END:DAYLIGHT
BEGIN:STANDARD
TZOFFSETFROM:-0400
TZOFFSETTO:-0500
TZNAME:EST
DTSTART:20271107T060000
END:STANDARD
END:VTIMEZONE
BEGIN:VEVENT
DTSTART;TZID=America/New_York:20260424T140000
DTEND;TZID=America/New_York:20260424T160000
DTSTAMP:20260424T141925
CREATED:20260417T142650Z
LAST-MODIFIED:20260420T004811Z
UID:10006196-1777039200-1777046400@gradschool.cornell.edu
SUMMARY:Beyond Supervision: Effective Mentorship in Undergraduate Research
DESCRIPTION:Beyond Supervision: Effective Mentorship in Undergraduate Research \n\n\nDate Option 1: Friday\, April 24\, 2026 from 2:00 PM – 4:00 PM\, by Zoom\nDate Option 2: Monday\, May 18\, 2026 from 11:30 AM – 1:30 PM\, 142 Upson Hall (includes lunch)\n\nPresenters: Colleen McLinn\, Ph.D. and Darius Melvin\, M.Ed. \nJoin us for an interactive workshop about best practices for mentoring undergraduate researchers. You will learn evidence-based mentoring techniques and engage with tools that you can use right now to enhance your mentoring practice. This workshop is ideal for the mentors of undergraduate researchers who would like to refine their mentoring practices or who are first time mentors to undergraduate researchers. We are offering two workshop sessions that will include the same content\, one on Zoom and one in person (in person includes lunch!). Registration is required and space is limited. Sign-up now! \nSponsored by the Cornell University Graduate School\, College of Engineering\, and the Center for Research on Programmable Plant Systems (CROPPS)\, and open to all who will soon be mentoring undergraduate scholars conducting research (in any discipline). \nAs a bonus\, we will share new FAIM tools and resources being developed at Cornell\, primarily designed for use in graduate education and the professoriate\, but highly relevant to mentors at all levels. Feel free to check them out in advance!
URL:https://gradschool.cornell.edu/event/beyond-supervision-effective-mentorship-in-undergraduate-research-3/
LOCATION:Zoom
CATEGORIES:Career Development,Future Faculty and Academic Careers
GEO:40.7127753;-74.0059728
END:VEVENT
BEGIN:VEVENT
DTSTART;TZID=America/New_York:20260430T140000
DTEND;TZID=America/New_York:20260430T153000
DTSTAMP:20260424T141925
CREATED:20260413T132346Z
LAST-MODIFIED:20260422T160216Z
UID:10006188-1777557600-1777563000@gradschool.cornell.edu
SUMMARY:Nurture Your Network
DESCRIPTION:Learn why and how to network\, conduct informational interviews\, and ask practical questions. Incorporate AI tools\, a tracking system\, and LinkedIn strategies to build reputation and reach. \nWorkshop outcomes:\n\nUnderstand why and how to build a network\nLeverage the power of LinkedIn to identify and communicate with professionals\nLearn to manage a network\, and track it with a “Digital Rolodex a/k/a Tres Anillos.”\n\nNetworking is a two-way street where you must invest time and energy to nurture and grow it. Being intentional about your interactions can mean the difference between opening and closing doors. You can build something invaluable if you are selective and curate who/what you want to learn more about through informational interviews. AI tools help synthesize information\, identify related organizations\, and map ideas. A network contributes to collaborative activities such as publishing\, presenting\, and partnering on projects. We learn about an industry or sector through informational interviews (an opportunity to gather information and share your pitch)\, do market research\, and find areas to collaborate. A genuine connection can organically lead to anything and everything. Integrate Excel with AI to track activities. \nJoin our in-person only hands-on networking workshop! All disciplines welcome! REGISTER NOW \nEvent Details\nDate and Time: April 30 from 2:00-3:30pm (in-person only)\nCampus Location: Provided upon registration\, prior to the event\nFacilitator: Alumna Melissa Reitkopp ’85\nAccommodations: We strive to make our events accessible to all community members. Individuals who would like to request accessibility accommodations should contact gradcareers@cornell.edu. We ask that requests be made at least one week in advance to help ensure they can be met. \nAbout the speaker: Alumna Melissa Reitkopp ’85 is a talent acquisition pro\, career coach and community connector who has helped thousands of professionals across non-profit\, commercial and government sectors grow their careers and build meaningful networks. She combines recruiter insights with practical tools to help people land jobs they love. \nBrought to you through a collaboration between Cornell Alumni Affairs and Development and the Graduate School Office of Career and Professional Development’s Careers Beyond Academia program.
URL:https://gradschool.cornell.edu/event/nurture-your-network/
LOCATION:102 Mann Library\, 237 Mann Drive\, Ithaca\, NY\, 14853\, United States
CATEGORIES:Career Development,Careers Beyond Academia,Future Faculty and Academic Careers
GEO:42.4487577;-76.4764146
X-APPLE-STRUCTURED-LOCATION;VALUE=URI;X-ADDRESS=102 Mann Library 237 Mann Drive Ithaca NY 14853 United States;X-APPLE-RADIUS=500;X-TITLE=237 Mann Drive:geo:-76.4764146,42.4487577
END:VEVENT
END:VCALENDAR