BEGIN:VCALENDAR
VERSION:2.0
PRODID:-//Graduate School - ECPv6.15.18//NONSGML v1.0//EN
CALSCALE:GREGORIAN
METHOD:PUBLISH
X-WR-CALNAME:Graduate School
X-ORIGINAL-URL:https://gradschool.cornell.edu
X-WR-CALDESC:Events for Graduate School
REFRESH-INTERVAL;VALUE=DURATION:PT1H
X-Robots-Tag:noindex
X-PUBLISHED-TTL:PT1H
BEGIN:VTIMEZONE
TZID:America/New_York
BEGIN:DAYLIGHT
TZOFFSETFROM:-0500
TZOFFSETTO:-0400
TZNAME:EDT
DTSTART:20210314T070000
END:DAYLIGHT
BEGIN:STANDARD
TZOFFSETFROM:-0400
TZOFFSETTO:-0500
TZNAME:EST
DTSTART:20211107T060000
END:STANDARD
BEGIN:DAYLIGHT
TZOFFSETFROM:-0500
TZOFFSETTO:-0400
TZNAME:EDT
DTSTART:20220313T070000
END:DAYLIGHT
BEGIN:STANDARD
TZOFFSETFROM:-0400
TZOFFSETTO:-0500
TZNAME:EST
DTSTART:20221106T060000
END:STANDARD
BEGIN:DAYLIGHT
TZOFFSETFROM:-0500
TZOFFSETTO:-0400
TZNAME:EDT
DTSTART:20230312T070000
END:DAYLIGHT
BEGIN:STANDARD
TZOFFSETFROM:-0400
TZOFFSETTO:-0500
TZNAME:EST
DTSTART:20231105T060000
END:STANDARD
END:VTIMEZONE
BEGIN:VEVENT
DTSTART;TZID=America/New_York:20221205T160000
DTEND;TZID=America/New_York:20221205T170000
DTSTAMP:20260423T002017
CREATED:20220929T205323Z
LAST-MODIFIED:20241125T230312Z
UID:10004679-1670256000-1670259600@gradschool.cornell.edu
SUMMARY:Let's Meditate
DESCRIPTION:Weekly mindfulness meditation sessions \nMondays at the Barn
URL:https://gradschool.cornell.edu/event/lets-meditate-4/2022-12-05/
END:VEVENT
BEGIN:VEVENT
DTSTART;TZID=America/New_York:20221205T170000
DTEND;TZID=America/New_York:20221205T180000
DTSTAMP:20260423T002017
CREATED:20220822T192657Z
LAST-MODIFIED:20241125T230301Z
UID:10004615-1670259600-1670263200@gradschool.cornell.edu
SUMMARY:Language Circle
DESCRIPTION:Want to practice a new language or speak your native language with other students? Join us at the Barn for this social event where you can meet with other students to brush up on your language skills.\nNo registration required; just attend.
URL:https://gradschool.cornell.edu/event/language-circle/2022-12-05/
END:VEVENT
BEGIN:VEVENT
DTSTART;TZID=America/New_York:20221205T190000
DTEND;TZID=America/New_York:20221205T213000
DTSTAMP:20260423T002017
CREATED:20220822T220527Z
LAST-MODIFIED:20241125T230302Z
UID:10004631-1670266800-1670275800@gradschool.cornell.edu
SUMMARY:Swing Dance
DESCRIPTION:Learn this famous big band social dance including styles like lindy hop\, Charleston\, and more!
URL:https://gradschool.cornell.edu/event/swing-dance-6/2022-12-05/
END:VEVENT
BEGIN:VEVENT
DTSTART;TZID=America/New_York:20221206T170000
DTEND;TZID=America/New_York:20221206T180000
DTSTAMP:20260423T002017
CREATED:20220822T222533Z
LAST-MODIFIED:20241125T230304Z
UID:10004643-1670346000-1670349600@gradschool.cornell.edu
SUMMARY:Knitting at the Barn
DESCRIPTION:Do you enjoy knitting or would you like to learn how? Come and check our knitting workshop every Tuesday at 5pm! Beginners welcome!
URL:https://gradschool.cornell.edu/event/knitting-at-the-barn/2022-12-06/
END:VEVENT
BEGIN:VEVENT
DTSTART;TZID=America/New_York:20221206T200000
DTEND;TZID=America/New_York:20221206T220000
DTSTAMP:20260423T002017
CREATED:20220822T192221Z
LAST-MODIFIED:20241125T230256Z
UID:10004604-1670356800-1670364000@gradschool.cornell.edu
SUMMARY:Big Red Barn Trivia Night
DESCRIPTION:Join us for our normal Tuesday night trivia session and compete for prizes with knowledge in unlimited categories. No team? No worries\, we will match you with an existing team or form a new one. \nNo registration required; just attend.
URL:https://gradschool.cornell.edu/event/big-red-barn-trivia-night/2022-12-06/
END:VEVENT
BEGIN:VEVENT
DTSTART;TZID=America/New_York:20221207T153000
DTEND;TZID=America/New_York:20221207T170000
DTSTAMP:20260423T002017
CREATED:20221114T185758Z
LAST-MODIFIED:20241125T225841Z
UID:10004685-1670427000-1670432400@gradschool.cornell.edu
SUMMARY:Multicultural Academic Council (MAC) Winter Social
DESCRIPTION:The MAC (Multicultural Academic Council) Mentoring Program is a collaboration of MAC and the Graduate School Office of Inclusion and Student Engagement (OISE). \nMAC is a graduate student organization focused on ensuring that doctoral students\, especially from those backgrounds historically underrepresented in academia\, can connect with peer mentors and develop positive strategies for excelling academically and personally throughout their graduate career and beyond. \nPeer Mentors: MAC invites doctoral students going into their third year or beyond and postdoctoral fellows/associates to apply to serve as peer mentors to support the success and professional development of first-year doctoral students. \nMentees: MAC invites first- and second-year doctoral students to apply to participate in the MAC Mentoring Program as mentees\, which brings senior graduate students and postdocs together with beginning graduate students for monthly discussion sessions focused on common issues faced by early career graduate students. \nThe MAC Mentoring Program runs on a late September through late March schedule. \nThis event brings together graduate and professional students for a night of music\, great food\, dancing\, and community!
URL:https://gradschool.cornell.edu/event/multicultural-academic-council-mac-winter-social/
LOCATION:Big Red Barn\, 135 Presidents Way\, Ithaca\, NY\, 14853\, United States
GEO:42.449516;-76.4806268
X-APPLE-STRUCTURED-LOCATION;VALUE=URI;X-ADDRESS=Big Red Barn 135 Presidents Way Ithaca NY 14853 United States;X-APPLE-RADIUS=500;X-TITLE=135 Presidents Way:geo:-76.4806268,42.449516
END:VEVENT
BEGIN:VEVENT
DTSTART;TZID=America/New_York:20221210T190000
DTEND;TZID=America/New_York:20221210T230000
DTSTAMP:20260423T002017
CREATED:20221114T182849Z
LAST-MODIFIED:20241125T225746Z
UID:10004683-1670698800-1670713200@gradschool.cornell.edu
SUMMARY:Renaissance Ball
DESCRIPTION:The Annual Graduate Diversity and Inclusion Renaissance Ball is an effort of the graduate student organizations represented on the Graduate and Professional Student Diversity Council. This event brings together graduate and professional students for a night of live music\, great food\, dancing\, and community. Founded by the Black Graduate and Professional Student Association (BGPSA) in 2011\, the Renaissance Ball\, which is named in honor of the Harlem Renaissance\, celebrates the diversity of the Cornell graduate community and promotes the inclusion of all of its members.
URL:https://gradschool.cornell.edu/event/renaissance-ball/
LOCATION:G10 Biotechnology Building\, 526 Campus Road\, Ithaca\, NY\, 14853\, United States
GEO:42.4465542;-76.4783618
X-APPLE-STRUCTURED-LOCATION;VALUE=URI;X-ADDRESS=G10 Biotechnology Building 526 Campus Road Ithaca NY 14853 United States;X-APPLE-RADIUS=500;X-TITLE=526 Campus Road:geo:-76.4783618,42.4465542
END:VEVENT
END:VCALENDAR