BEGIN:VCALENDAR
VERSION:2.0
PRODID:-//Graduate School - ECPv6.15.18//NONSGML v1.0//EN
CALSCALE:GREGORIAN
METHOD:PUBLISH
X-WR-CALNAME:Graduate School
X-ORIGINAL-URL:https://gradschool.cornell.edu
X-WR-CALDESC:Events for Graduate School
REFRESH-INTERVAL;VALUE=DURATION:PT1H
X-Robots-Tag:noindex
X-PUBLISHED-TTL:PT1H
BEGIN:VTIMEZONE
TZID:America/New_York
BEGIN:DAYLIGHT
TZOFFSETFROM:-0500
TZOFFSETTO:-0400
TZNAME:EDT
DTSTART:20220313T070000
END:DAYLIGHT
BEGIN:STANDARD
TZOFFSETFROM:-0400
TZOFFSETTO:-0500
TZNAME:EST
DTSTART:20221106T060000
END:STANDARD
BEGIN:DAYLIGHT
TZOFFSETFROM:-0500
TZOFFSETTO:-0400
TZNAME:EDT
DTSTART:20230312T070000
END:DAYLIGHT
BEGIN:STANDARD
TZOFFSETFROM:-0400
TZOFFSETTO:-0500
TZNAME:EST
DTSTART:20231105T060000
END:STANDARD
BEGIN:DAYLIGHT
TZOFFSETFROM:-0500
TZOFFSETTO:-0400
TZNAME:EDT
DTSTART:20240310T070000
END:DAYLIGHT
BEGIN:STANDARD
TZOFFSETFROM:-0400
TZOFFSETTO:-0500
TZNAME:EST
DTSTART:20241103T060000
END:STANDARD
END:VTIMEZONE
BEGIN:VEVENT
DTSTART;TZID=America/New_York:20230821T190000
DTEND;TZID=America/New_York:20230821T213000
DTSTAMP:20260425T183256
CREATED:20230822T000736Z
LAST-MODIFIED:20241125T230327Z
UID:10004127-1692644400-1692653400@gradschool.cornell.edu
SUMMARY:Swing Dance at the Barn
DESCRIPTION:Get back into the swing of the semester with weekly swing dancing at the barn! All skill levels welcome!\n \nDate: Every Monday; starting August 21\nTime: 7:00pm-9:30pm\nLocation: Big Red Barn\n \nIndividuals who would like to request accessibility accommodations should contact cugradswing@gmail.com
URL:https://gradschool.cornell.edu/event/swing-dance-at-the-barn-2-2/2023-08-21/
LOCATION:Big Red Barn\, 135 Presidents Way\, Ithaca\, NY\, 14853\, United States
GEO:42.449516;-76.4806268
X-APPLE-STRUCTURED-LOCATION;VALUE=URI;X-ADDRESS=Big Red Barn 135 Presidents Way Ithaca NY 14853 United States;X-APPLE-RADIUS=500;X-TITLE=135 Presidents Way:geo:-76.4806268,42.449516
END:VEVENT
BEGIN:VEVENT
DTSTART;TZID=America/New_York:20230822T180000
DTEND;TZID=America/New_York:20230822T193000
DTSTAMP:20260425T183256
CREATED:20230822T000604Z
LAST-MODIFIED:20241125T230325Z
UID:10004125-1692727200-1692732600@gradschool.cornell.edu
SUMMARY:Knitting at the Barn
DESCRIPTION:For both those with an interest in learning fiber arts and those who want to make steady progress on an existing project.   \nFor all skill and interest levels! Materials and guidance will be provided. \n \nTuesdays at 6:00-7:30 PM at the Big Red Barn \nAugust 22 to November 28\, 2023
URL:https://gradschool.cornell.edu/event/knitting-at-the-barn-3/
LOCATION:Big Red Barn\, 135 Presidents Way\, Ithaca\, NY\, 14853\, United States
GEO:42.449516;-76.4806268
X-APPLE-STRUCTURED-LOCATION;VALUE=URI;X-ADDRESS=Big Red Barn 135 Presidents Way Ithaca NY 14853 United States;X-APPLE-RADIUS=500;X-TITLE=135 Presidents Way:geo:-76.4806268,42.449516
END:VEVENT
BEGIN:VEVENT
DTSTART;TZID=America/New_York:20230822T200000
DTEND;TZID=America/New_York:20230822T220000
DTSTAMP:20260425T183256
CREATED:20230822T000440Z
LAST-MODIFIED:20241125T230325Z
UID:10004108-1692734400-1692741600@gradschool.cornell.edu
SUMMARY:Trivia at the Barn
DESCRIPTION:Join us for a fun night of trivia with your fellow grad students. Get to know your colleagues and new or old friends!\nNew to trivia or need a team? We will help pair you up!\n \nDate: Tuesdays\nTime: 8:00pm-10:00pm\nLocation: Big Red Barn
URL:https://gradschool.cornell.edu/event/trivia-at-the-barn-2/2023-08-22/
LOCATION:Big Red Barn\, 135 Presidents Way\, Ithaca\, NY\, 14853\, United States
GEO:42.449516;-76.4806268
X-APPLE-STRUCTURED-LOCATION;VALUE=URI;X-ADDRESS=Big Red Barn 135 Presidents Way Ithaca NY 14853 United States;X-APPLE-RADIUS=500;X-TITLE=135 Presidents Way:geo:-76.4806268,42.449516
END:VEVENT
BEGIN:VEVENT
DTSTART;TZID=America/New_York:20230825T163000
DTEND;TZID=America/New_York:20230825T190000
DTSTAMP:20260425T183256
CREATED:20230822T000050Z
LAST-MODIFIED:20241125T225925Z
UID:10004091-1692981000-1692990000@gradschool.cornell.edu
SUMMARY:TGIF (Tell Grads It's Friday) at the Barn
DESCRIPTION:Looking to kick back and make some friends? Come celebrate with us as we welcome old and new graduate & professional students back to Cornell for the Big Red Barn’s signature event. Snacks\, music\, and drinks!\nNo registration required; just attend.\n \nEnjoy our new air conditioning upgrades\, which will allow the Barn to better serve the graduate and professional community in the summer months.\n \nDate: Fridays\nTime: 4:30pm-7:00pm\nLocation: Big Red Barn
URL:https://gradschool.cornell.edu/event/tgif-tell-grads-its-friday-at-the-barn/2023-08-25/
LOCATION:Big Red Barn\, 135 Presidents Way\, Ithaca\, NY\, 14853\, United States
GEO:42.449516;-76.4806268
X-APPLE-STRUCTURED-LOCATION;VALUE=URI;X-ADDRESS=Big Red Barn 135 Presidents Way Ithaca NY 14853 United States;X-APPLE-RADIUS=500;X-TITLE=135 Presidents Way:geo:-76.4806268,42.449516
END:VEVENT
END:VCALENDAR