BEGIN:VCALENDAR
VERSION:2.0
PRODID:-//Graduate School - ECPv6.15.18//NONSGML v1.0//EN
CALSCALE:GREGORIAN
METHOD:PUBLISH
X-ORIGINAL-URL:https://gradschool.cornell.edu
X-WR-CALDESC:Events for Graduate School
REFRESH-INTERVAL;VALUE=DURATION:PT1H
X-Robots-Tag:noindex
X-PUBLISHED-TTL:PT1H
BEGIN:VTIMEZONE
TZID:America/New_York
BEGIN:DAYLIGHT
TZOFFSETFROM:-0500
TZOFFSETTO:-0400
TZNAME:EDT
DTSTART:20240310T070000
END:DAYLIGHT
BEGIN:STANDARD
TZOFFSETFROM:-0400
TZOFFSETTO:-0500
TZNAME:EST
DTSTART:20241103T060000
END:STANDARD
BEGIN:DAYLIGHT
TZOFFSETFROM:-0500
TZOFFSETTO:-0400
TZNAME:EDT
DTSTART:20250309T070000
END:DAYLIGHT
BEGIN:STANDARD
TZOFFSETFROM:-0400
TZOFFSETTO:-0500
TZNAME:EST
DTSTART:20251102T060000
END:STANDARD
BEGIN:DAYLIGHT
TZOFFSETFROM:-0500
TZOFFSETTO:-0400
TZNAME:EDT
DTSTART:20260308T070000
END:DAYLIGHT
BEGIN:STANDARD
TZOFFSETFROM:-0400
TZOFFSETTO:-0500
TZNAME:EST
DTSTART:20261101T060000
END:STANDARD
END:VTIMEZONE
BEGIN:VEVENT
DTSTART;TZID=America/New_York:20251103T170000
DTEND;TZID=America/New_York:20251103T180000
DTSTAMP:20260421T211439
CREATED:20250919T002147Z
LAST-MODIFIED:20251008T134244Z
UID:10006018-1762189200-1762192800@gradschool.cornell.edu
SUMMARY:Weekly Language Circle
DESCRIPTION:Join us every Monday to learn a new language\, brush up on an old one\, or get more fluent through conversations with fellow graduate students who study these languages or are native speakers.  \nThis fall\, languages include Italian\, German\, Japanese\, Portuguese\, Mandarin\, Arabic\, Russian\, Norwegian\, and French. Facilitators will be present for all! \n  \nIf you are interested in facilitating Spanish\, Korean\, or any other non-English language\, please email Hetvi [hsd37@cornell.edu]
URL:https://gradschool.cornell.edu/event/weekly-language-circle/2025-11-03/
LOCATION:Big Red Barn\, 135 Presidents Way\, Ithaca\, NY\, 14853\, United States
GEO:42.449516;-76.4806268
X-APPLE-STRUCTURED-LOCATION;VALUE=URI;X-ADDRESS=Big Red Barn 135 Presidents Way Ithaca NY 14853 United States;X-APPLE-RADIUS=500;X-TITLE=135 Presidents Way:geo:-76.4806268,42.449516
END:VEVENT
BEGIN:VEVENT
DTSTART;TZID=America/New_York:20251104T190000
DTEND;TZID=America/New_York:20251104T210000
DTSTAMP:20260421T211439
CREATED:20250814T220658Z
LAST-MODIFIED:20251008T134333Z
UID:10005988-1762282800-1762290000@gradschool.cornell.edu
SUMMARY:BRB Trivia
DESCRIPTION:Trivia is back weekly on Tuesdays 7 PM to 9 PM at the Big Red Barn. Come with a team or show up on your own and see our trivia host\, Jacob\, to be matched with an existing team. All are welcome!
URL:https://gradschool.cornell.edu/event/brb-trivia/2025-11-04/
LOCATION:Big Red Barn\, 135 Presidents Way\, Ithaca\, NY\, 14853\, United States
GEO:42.449516;-76.4806268
X-APPLE-STRUCTURED-LOCATION;VALUE=URI;X-ADDRESS=Big Red Barn 135 Presidents Way Ithaca NY 14853 United States;X-APPLE-RADIUS=500;X-TITLE=135 Presidents Way:geo:-76.4806268,42.449516
END:VEVENT
BEGIN:VEVENT
DTSTART;TZID=America/New_York:20251106T170000
DTEND;TZID=America/New_York:20251106T190000
DTSTAMP:20260421T211439
CREATED:20250826T160812Z
LAST-MODIFIED:20251017T145045Z
UID:10005999-1762448400-1762455600@gradschool.cornell.edu
SUMMARY:Fall Gratitude Mixer with OISE
DESCRIPTION:Fall Gratitude Mixer with OISE\nJoin the Graduate School Office of Inclusion and Student Engagement (OISE) for our Fall Gratitude Mixer! Connect with fellow graduate and professional students\, postdocs\, faculty\, staff\, and community members as we celebrate the season of gratitude. \nMake new connections\, learn about our partnering student organizations\, and take part in the Graduate School Gratitude Project! We’ll provide Gratitude Postcards so you can write thank-you notes to those who’ve supported you — and we’ll take care of mailing them! \nRegister Here! \nWhen: November 6\, 2025\nTime: 5:00 – 7:00pm \nWhere: G10 Biotech\nDress: Come as you are! \nLight refreshments will be provided.  \nThis event is co-hosted by the Graduate School Office of Inclusion & Student Engagement (OISE) and graduate student organizations represented on the OISE Student Leadership Council. 
URL:https://gradschool.cornell.edu/event/oise-fall-gratitude-mixer/
LOCATION:G10 Biotechnology Building\, 526 Campus Road\, Ithaca\, NY\, 14853\, United States
GEO:42.4465542;-76.4783618
X-APPLE-STRUCTURED-LOCATION;VALUE=URI;X-ADDRESS=G10 Biotechnology Building 526 Campus Road Ithaca NY 14853 United States;X-APPLE-RADIUS=500;X-TITLE=526 Campus Road:geo:-76.4783618,42.4465542
END:VEVENT
BEGIN:VEVENT
DTSTART;TZID=America/New_York:20251107T163000
DTEND;TZID=America/New_York:20251107T190000
DTSTAMP:20260421T211439
CREATED:20250520T191752Z
LAST-MODIFIED:20251204T002405Z
UID:10005679-1762533000-1762542000@gradschool.cornell.edu
SUMMARY:T.G.I.F.
DESCRIPTION:Our weekly Tell Grads Its Friday will continue over the summer at our typical time. T.G.I.F. is catered to the graduate and professional student body. These students can bring guests\, up to one per person. The age requirement for Cornell Affiliated non graduate students is 23 years or older.
URL:https://gradschool.cornell.edu/event/t-g-i-f-2/2025-11-07/
LOCATION:Big Red Barn\, 135 Presidents Way\, Ithaca\, NY\, 14853\, United States
GEO:42.449516;-76.4806268
X-APPLE-STRUCTURED-LOCATION;VALUE=URI;X-ADDRESS=Big Red Barn 135 Presidents Way Ithaca NY 14853 United States;X-APPLE-RADIUS=500;X-TITLE=135 Presidents Way:geo:-76.4806268,42.449516
END:VEVENT
END:VCALENDAR