BEGIN:VCALENDAR
VERSION:2.0
PRODID:-//Graduate School - ECPv6.15.18//NONSGML v1.0//EN
CALSCALE:GREGORIAN
METHOD:PUBLISH
X-ORIGINAL-URL:https://gradschool.cornell.edu
X-WR-CALDESC:Events for Graduate School
REFRESH-INTERVAL;VALUE=DURATION:PT1H
X-Robots-Tag:noindex
X-PUBLISHED-TTL:PT1H
BEGIN:VTIMEZONE
TZID:America/New_York
BEGIN:DAYLIGHT
TZOFFSETFROM:-0500
TZOFFSETTO:-0400
TZNAME:EDT
DTSTART:20250309T070000
END:DAYLIGHT
BEGIN:STANDARD
TZOFFSETFROM:-0400
TZOFFSETTO:-0500
TZNAME:EST
DTSTART:20251102T060000
END:STANDARD
BEGIN:DAYLIGHT
TZOFFSETFROM:-0500
TZOFFSETTO:-0400
TZNAME:EDT
DTSTART:20260308T070000
END:DAYLIGHT
BEGIN:STANDARD
TZOFFSETFROM:-0400
TZOFFSETTO:-0500
TZNAME:EST
DTSTART:20261101T060000
END:STANDARD
BEGIN:DAYLIGHT
TZOFFSETFROM:-0500
TZOFFSETTO:-0400
TZNAME:EDT
DTSTART:20270314T070000
END:DAYLIGHT
BEGIN:STANDARD
TZOFFSETFROM:-0400
TZOFFSETTO:-0500
TZNAME:EST
DTSTART:20271107T060000
END:STANDARD
END:VTIMEZONE
BEGIN:VEVENT
DTSTART;TZID=America/New_York:20260120T160000
DTEND;TZID=America/New_York:20260120T173000
DTSTAMP:20260421T000754
CREATED:20251215T153302Z
LAST-MODIFIED:20260106T171803Z
UID:10006079-1768924800-1768930200@gradschool.cornell.edu
SUMMARY:OISE Hot Chocolate Bar Drop-In Hours
DESCRIPTION:Join the Graduate School Office of Inclusion and Student Engagement for a cozy hot chocolate bar as we kick off the spring semester! \nCatch up with friends\, or make new connections with other graduate students\, postdocs\, faculty\, and staff over a delicious cup of hot cocoa! \nDate: January 20\, 2026 \nTime: 4-5:30 pm \nLocation: Mann Library 102
URL:https://gradschool.cornell.edu/event/oise-hot-chocolate-bar-drop-in-hours/
LOCATION:102 Mann Library\, 237 Mann Drive\, Ithaca\, NY\, 14853\, United States
ORGANIZER;CN="Office of Inclusion and Student Engagement":MAILTO:grad_assoc_dean@cornell.edu
GEO:42.4487577;-76.4764146
X-APPLE-STRUCTURED-LOCATION;VALUE=URI;X-ADDRESS=102 Mann Library 237 Mann Drive Ithaca NY 14853 United States;X-APPLE-RADIUS=500;X-TITLE=237 Mann Drive:geo:-76.4764146,42.4487577
END:VEVENT
BEGIN:VEVENT
DTSTART;TZID=America/New_York:20260123T163000
DTEND;TZID=America/New_York:20260123T190000
DTSTAMP:20260421T000754
CREATED:20260121T210215Z
LAST-MODIFIED:20260121T210215Z
UID:10006099-1769185800-1769194800@gradschool.cornell.edu
SUMMARY:T.G.I.F.
DESCRIPTION:Tell Grad’s It’s Friday is a Graduate and Professional Student-focused weekly event. Graduate students\, Post Docs\, Faculty\, Staff\, and PhDs are welcome to attend with one guest each; all guests must be 23+. Undergraduate students are not allowed to attend.
URL:https://gradschool.cornell.edu/event/t-g-i-f-3/2026-01-23/
LOCATION:Big Red Barn\, 135 Presidents Way\, Ithaca\, NY\, 14853\, United States
GEO:42.449516;-76.4806268
X-APPLE-STRUCTURED-LOCATION;VALUE=URI;X-ADDRESS=Big Red Barn 135 Presidents Way Ithaca NY 14853 United States;X-APPLE-RADIUS=500;X-TITLE=135 Presidents Way:geo:-76.4806268,42.449516
END:VEVENT
END:VCALENDAR