BEGIN:VCALENDAR
VERSION:2.0
PRODID:-//Graduate School - ECPv6.15.18//NONSGML v1.0//EN
CALSCALE:GREGORIAN
METHOD:PUBLISH
X-WR-CALNAME:Graduate School
X-ORIGINAL-URL:https://gradschool.cornell.edu
X-WR-CALDESC:Events for Graduate School
REFRESH-INTERVAL;VALUE=DURATION:PT1H
X-Robots-Tag:noindex
X-PUBLISHED-TTL:PT1H
BEGIN:VTIMEZONE
TZID:America/New_York
BEGIN:DAYLIGHT
TZOFFSETFROM:-0500
TZOFFSETTO:-0400
TZNAME:EDT
DTSTART:20250309T070000
END:DAYLIGHT
BEGIN:STANDARD
TZOFFSETFROM:-0400
TZOFFSETTO:-0500
TZNAME:EST
DTSTART:20251102T060000
END:STANDARD
BEGIN:DAYLIGHT
TZOFFSETFROM:-0500
TZOFFSETTO:-0400
TZNAME:EDT
DTSTART:20260308T070000
END:DAYLIGHT
BEGIN:STANDARD
TZOFFSETFROM:-0400
TZOFFSETTO:-0500
TZNAME:EST
DTSTART:20261101T060000
END:STANDARD
BEGIN:DAYLIGHT
TZOFFSETFROM:-0500
TZOFFSETTO:-0400
TZNAME:EDT
DTSTART:20270314T070000
END:DAYLIGHT
BEGIN:STANDARD
TZOFFSETFROM:-0400
TZOFFSETTO:-0500
TZNAME:EST
DTSTART:20271107T060000
END:STANDARD
END:VTIMEZONE
BEGIN:VEVENT
DTSTART;TZID=America/New_York:20260413T170000
DTEND;TZID=America/New_York:20260413T180000
DTSTAMP:20260419T221909
CREATED:20260121T210908Z
LAST-MODIFIED:20260121T210908Z
UID:10006124-1776099600-1776103200@gradschool.cornell.edu
SUMMARY:Language Circle
DESCRIPTION:Join us every Monday to learn a new language\, brush up on an old one\, or get more fluent through conversations with fellow graduate students who study these languages or are native speakers.  \nThis spring\, languages include Italian\, German\, Japanese\, Portuguese\, Mandarin\, Arabic\, Russian\, Norwegian\, and French. Facilitators will be present for all! \n  \nIf you are interested in facilitating Spanish\, Korean\, or any other non-English language\, please email bigredbarn@cornell.edu 
URL:https://gradschool.cornell.edu/event/language-circle-4/2026-04-13/
LOCATION:Big Red Barn\, 135 Presidents Way\, Ithaca\, NY\, 14853\, United States
GEO:42.449516;-76.4806268
X-APPLE-STRUCTURED-LOCATION;VALUE=URI;X-ADDRESS=Big Red Barn 135 Presidents Way Ithaca NY 14853 United States;X-APPLE-RADIUS=500;X-TITLE=135 Presidents Way:geo:-76.4806268,42.449516
END:VEVENT
BEGIN:VEVENT
DTSTART;TZID=America/New_York:20260414T173000
DTEND;TZID=America/New_York:20260414T190000
DTSTAMP:20260419T221909
CREATED:20260121T211145Z
LAST-MODIFIED:20260121T211338Z
UID:10006138-1776187800-1776193200@gradschool.cornell.edu
SUMMARY:Knitting at the Barn
DESCRIPTION:Do you love fiber crafts or want to learn? Come to the Barn on Tuesday evenings from 5:30 – 7 p.m.! This event is for both those interested in learning fiber arts and those who want to make steady progress on an existing project. Materials and guidance will be provided if needed.  \nThis event usually occurs at 1-2 tables in the main space or greenhouse area of the Barn; email brb.art.fellow@gmail.com if you would like to be added to the group chat or request accessibility accommodations.
URL:https://gradschool.cornell.edu/event/knitting-at-the-barn-6/2026-04-14/
LOCATION:Big Red Barn\, 135 Presidents Way\, Ithaca\, NY\, 14853\, United States
GEO:42.449516;-76.4806268
X-APPLE-STRUCTURED-LOCATION;VALUE=URI;X-ADDRESS=Big Red Barn 135 Presidents Way Ithaca NY 14853 United States;X-APPLE-RADIUS=500;X-TITLE=135 Presidents Way:geo:-76.4806268,42.449516
END:VEVENT
BEGIN:VEVENT
DTSTART;TZID=America/New_York:20260414T190000
DTEND;TZID=America/New_York:20260414T210000
DTSTAMP:20260419T221909
CREATED:20260410T145746Z
LAST-MODIFIED:20260410T145747Z
UID:10006152-1776193200-1776200400@gradschool.cornell.edu
SUMMARY:GRADitude Trivia
DESCRIPTION:Join us for a special GRADitude-themed Trivia night on Tuesday\, April 14! \nCome with a team or show up on your own and see our trivia host\, Jacob\, to be matched with an existing team. All are welcome!
URL:https://gradschool.cornell.edu/event/brb-trivia-2-2/
LOCATION:Big Red Barn\, 135 Presidents Way\, Ithaca\, NY\, 14853\, United States
GEO:42.449516;-76.4806268
X-APPLE-STRUCTURED-LOCATION;VALUE=URI;X-ADDRESS=Big Red Barn 135 Presidents Way Ithaca NY 14853 United States;X-APPLE-RADIUS=500;X-TITLE=135 Presidents Way:geo:-76.4806268,42.449516
END:VEVENT
BEGIN:VEVENT
DTSTART;TZID=America/New_York:20260415T163000
DTEND;TZID=America/New_York:20260415T180000
DTSTAMP:20260419T221909
CREATED:20260320T132832Z
LAST-MODIFIED:20260320T132832Z
UID:10006180-1776270600-1776276000@gradschool.cornell.edu
SUMMARY:Research on Tap: Why You Do What You Do
DESCRIPTION:Location: Stocking Hall 148 \nRegistration Required: https://cglink.me/2ee/r2298454 \nHave you ever wondered what research is being done on the Cornell campus outside of your own department? Want to grab a drink with friends and learn more about the diverse community of researchers working at Cornell? Then join Graduate Women in Science (GWiS)\, Big Red Brewing and the Graduate School Office of Inclusion and Student Engagement (OISE) for Research on Tap to hear flash talks from two invited faculty members presenting on their research! \nOnce the academic talks are over\, the learning doesn’t stop — join us for a guided beer tasting led by Big Red Brewing. Hope to see you there! \nFood\, alcoholic drinks (21+ only) and non-alcoholic drinks will be provided. \nFunded by GPSAFC in collaboration with OISE and Big Red Brewing. Open to graduate and professional degree students\, postdocs\, faculty\, and staff. Please contact gwiscornell@gmail.com for any accommodations you might require to make this event accessible to you.
URL:https://gradschool.cornell.edu/event/research-on-tap-why-you-do-what-you-do/
LOCATION:148 Stocking Hall\, 411 Tower Rd\, Ithaca\, NY\, 14853
END:VEVENT
BEGIN:VEVENT
DTSTART;TZID=America/New_York:20260417T143000
DTEND;TZID=America/New_York:20260417T153000
DTSTAMP:20260419T221909
CREATED:20260413T142041Z
LAST-MODIFIED:20260413T142041Z
UID:10006192-1776436200-1776439800@gradschool.cornell.edu
SUMMARY:GRADitude: Pups & Popcorn
DESCRIPTION:The Cornell Companions are coming to the Big Red Barn! Stop by for some popcorn & pup time to de-stress and de-compress at the end of your busy week. 
URL:https://gradschool.cornell.edu/event/graditude-pups-popcorn/
LOCATION:Big Red Barn\, 135 Presidents Way\, Ithaca\, NY\, 14853\, United States
GEO:42.449516;-76.4806268
X-APPLE-STRUCTURED-LOCATION;VALUE=URI;X-ADDRESS=Big Red Barn 135 Presidents Way Ithaca NY 14853 United States;X-APPLE-RADIUS=500;X-TITLE=135 Presidents Way:geo:-76.4806268,42.449516
END:VEVENT
BEGIN:VEVENT
DTSTART;TZID=America/New_York:20260417T163000
DTEND;TZID=America/New_York:20260417T190000
DTSTAMP:20260419T221909
CREATED:20260410T144939Z
LAST-MODIFIED:20260410T144940Z
UID:10006110-1776443400-1776452400@gradschool.cornell.edu
SUMMARY:GRADitude T.G.I.F.
DESCRIPTION:We’re giving out free pizza at this Grad Student Appreciation Week edition of Tell Grad’s It’s Friday! First come\, first served\, so get there early if you want a slice. \nGraduate students\, Post Docs\, Faculty\, Staff\, and Ph.D.s are welcome to attend with one guest each; all guests must be 23+. Undergraduate students are not allowed to attend.
URL:https://gradschool.cornell.edu/event/t-g-i-f-3-2/
LOCATION:Big Red Barn\, 135 Presidents Way\, Ithaca\, NY\, 14853\, United States
GEO:42.449516;-76.4806268
X-APPLE-STRUCTURED-LOCATION;VALUE=URI;X-ADDRESS=Big Red Barn 135 Presidents Way Ithaca NY 14853 United States;X-APPLE-RADIUS=500;X-TITLE=135 Presidents Way:geo:-76.4806268,42.449516
END:VEVENT
END:VCALENDAR