BEGIN:VCALENDAR
VERSION:2.0
PRODID:-//Graduate School - ECPv6.15.18//NONSGML v1.0//EN
CALSCALE:GREGORIAN
METHOD:PUBLISH
X-WR-CALNAME:Graduate School
X-ORIGINAL-URL:https://gradschool.cornell.edu
X-WR-CALDESC:Events for Graduate School
REFRESH-INTERVAL;VALUE=DURATION:PT1H
X-Robots-Tag:noindex
X-PUBLISHED-TTL:PT1H
BEGIN:VTIMEZONE
TZID:America/New_York
BEGIN:DAYLIGHT
TZOFFSETFROM:-0500
TZOFFSETTO:-0400
TZNAME:EDT
DTSTART:20240310T070000
END:DAYLIGHT
BEGIN:STANDARD
TZOFFSETFROM:-0400
TZOFFSETTO:-0500
TZNAME:EST
DTSTART:20241103T060000
END:STANDARD
BEGIN:DAYLIGHT
TZOFFSETFROM:-0500
TZOFFSETTO:-0400
TZNAME:EDT
DTSTART:20250309T070000
END:DAYLIGHT
BEGIN:STANDARD
TZOFFSETFROM:-0400
TZOFFSETTO:-0500
TZNAME:EST
DTSTART:20251102T060000
END:STANDARD
BEGIN:DAYLIGHT
TZOFFSETFROM:-0500
TZOFFSETTO:-0400
TZNAME:EDT
DTSTART:20260308T070000
END:DAYLIGHT
BEGIN:STANDARD
TZOFFSETFROM:-0400
TZOFFSETTO:-0500
TZNAME:EST
DTSTART:20261101T060000
END:STANDARD
END:VTIMEZONE
BEGIN:VEVENT
DTSTART;TZID=America/New_York:20250821T100000
DTEND;TZID=America/New_York:20250821T130000
DTSTAMP:20260424T122739
CREATED:20250623T165840Z
LAST-MODIFIED:20250811T205103Z
UID:10005950-1755770400-1755781200@gradschool.cornell.edu
SUMMARY:Grad Connect 2025: A Resource Fair for Graduate and Professional Degree Students
DESCRIPTION:This collaborative resource fair will allow graduate and professional degree students from across programs to engage with each other while learning more about the resources\, offices\, and organizations that help support their development and progression at Cornell. Open to incoming and current students. View this year’s tables. \nIf you need accommodations to participate\, please email gradstudentlife@cornell.edu.
URL:https://gradschool.cornell.edu/event/grad-connect-a-resource-fair-for-graduate-and-professional-degree-students-2/
LOCATION:Ramin Room\, Bartels Hall\, 554 Campus Road\, Ithaca\, NY\, 14853\, United States
END:VEVENT
END:VCALENDAR